FILENAME: O4711209.SWS.958243.tif
QUADRANGLE_NAME: GATES PARK
QUADRANT: SW
WEST_LONGITUDE: -113 0 0.00000
EAST_LONGITUDE: -112 56 15.00000
NORTH_LATITUDE: 47 48 45.00000
SOUTH_LATITUDE: 47 45 0.00000
PRODUCTION_DATE: 1998 12 10
RASTER_ORDER: LEFT_RIGHT/TOP_BOTTOM
BAND_ORGANIZATION: SINGLE FILE
BAND_CONTENT: BLACK&WHITE
BAND_CONTENT: UNDEFINED
BAND_CONTENT: UNDEFINED
BITS_PER_PIXEL: 8
SAMPLES_AND_LINES: 5550 7680
HORIZONTAL_DATUM: NAD83
HORIZONTAL_COORDINATE_SYSTEM: UTM
COORDINATE_ZONE: 12
HORIZONTAL_UNITS: METERS
HORIZONTAL_RESOLUTION: 1.00000
SECONDARY_HORIZONTAL_DATUM: NAD27
XY_ORIGIN: 349710.00000 5297700.00000
SECONDARY_XY_ORIGIN: 349772.16200 5297485.65900
NATION: US
STATE: MT
NW_QUAD_CORNER_XY: 350272.14500 5297397.38200
NE_QUAD_CORNER_XY: 354950.96500 5297278.21200
SE_QUAD_CORNERY_XY: 354776.94700 5290332.24400
SW_QUAD_CORNER_XY: 350092.51000 5290451.43800
SECONDARY_NW_QUAD_XY: 350267.45100 5297178.61100
SECONDARY_NE_QUAD_XY: 354946.41700 5297059.43700
SECONDARY_SE_QUAD_XY: 354772.40000 5290113.48600
SECONDARY_SW_QUAD_XY: 350087.81700 5290232.68500
RMSE_XY: 3.39000
IMAGE_SOURCE: BLACK AND WHITE FILM
SOURCE_IMAGE_ID: NAPP 9491 21
SOURCE_IMAGE_DATE: 1995 09 01
SOURCE_DEM_DATE: 1995 00 00
AGENCY: WESTERN MAPPING CENTER (WMC)
PRODUCER: ANALYTICAL SURVEYS INC.
PRODUCTION_SYSTEM: ORBIT OR_RECTIFY V.5.2
COMPRESSION: UNDEFINED
STANDARD_VERSION: 1996 12
METADATA_DATE: 1998 12 14
DATA_FILE_SIZE: 42629550
BYTE_COUNT: 5550
