FILENAME: O4711201.NWS.46647.tif
QUADRANGLE_NAME: PORPHYRY REEF
QUADRANT: NW
WEST_LONGITUDE: -113 0 0.00000
EAST_LONGITUDE: -112 56 15.00000
NORTH_LATITUDE: 48 0 0.00000
SOUTH_LATITUDE: 47 56 15.00000
PRODUCTION_DATE: 1995 4 28
RASTER_ORDER: LEFT_RIGHT/TOP_BOTTOM
BAND_ORGANIZATION: SINGLE FILE
BAND_CONTENT: BLACK&WHITE
BAND_CONTENT: UNDEFINED
BAND_CONTENT: UNDEFINED
BITS_PER_PIXEL: 8
SAMPLES_AND_LINES: 5512 7672
HORIZONTAL_DATUM: NAD83
HORIZONTAL_COORDINATE_SYSTEM: UTM
COORDINATE_ZONE: 12
HORIZONTAL_UNITS: METERS
HORIZONTAL_RESOLUTION: 1.00000
SECONDARY_HORIZONTAL_DATUM: NAD27
XY_ORIGIN: 350264.00000 5318536.00000
SECONDARY_XY_ORIGIN: 350326.22000 5318321.05000
NATION: US
STATE: MT
NW_QUAD_CORNER_XY: 350812.13000 5318235.61000
NE_QUAD_CORNER_XY: 355474.06000 5318116.52000
SE_QUAD_CORNERY_XY: 355299.52000 5311170.35000
SW_QUAD_CORNER_XY: 350631.95000 5311289.47000
SECONDARY_NW_QUAD_XY: 350807.43000 5318016.79000
SECONDARY_NE_QUAD_XY: 355469.51000 5317897.70000
SECONDARY_SE_QUAD_XY: 355294.97000 5310951.54000
SECONDARY_SW_QUAD_XY: 350627.26000 5311070.66000
RMSE_XY: 1.90000
IMAGE_SOURCE: BLACK AND WHITE FILM
SOURCE_IMAGE_ID: NAPP 2573 24
SOURCE_IMAGE_DATE: 1990 8 7
SOURCE_IMAGE_ID: NAPP 2573 2573
SOURCE_IMAGE_DATE: 1990 8 7
SOURCE_IMAGE_ID: NAPP 2573 25
SOURCE_IMAGE_DATE: 1990 8 7
SOURCE_DEM_DATE: 1995 4 28
AGENCY: WESTERN MAPPING CENTER (WMC)
PRODUCER: Science Applications International
PRODUCTION_SYSTEM: GIS/MAGIC
COMPRESSION: UNDEFINED
STANDARD_VERSION: 1996 12
METADATA_DATE: 1997 7 4
DATA_FILE_SIZE: 42293576
BYTE_COUNT: 5512
