FILENAME: O4711456.NES.48098.tif
QUADRANGLE_NAME: ARLEE
QUADRANT: NE
WEST_LONGITUDE: -114 3 45.00000
EAST_LONGITUDE: -114 0 0.00000
NORTH_LATITUDE: 47 15 0.00000
SOUTH_LATITUDE: 47 11 15.00000
PRODUCTION_DATE: 1995 11 3
RASTER_ORDER: LEFT_RIGHT/TOP_BOTTOM
BAND_ORGANIZATION: SINGLE FILE
BAND_CONTENT: BLACK&WHITE
BAND_CONTENT: UNDEFINED
BAND_CONTENT: UNDEFINED
BITS_PER_PIXEL: 8
SAMPLES_AND_LINES: 5700 7770
HORIZONTAL_DATUM: NAD83
HORIZONTAL_COORDINATE_SYSTEM: UTM
COORDINATE_ZONE: 11
HORIZONTAL_UNITS: METERS
HORIZONTAL_RESOLUTION: 1.00000
SECONDARY_HORIZONTAL_DATUM: NAD27
XY_ORIGIN: 721890.00000 5237640.00000
SECONDARY_XY_ORIGIN: 721967.87000 5237431.96000
NATION: US
STATE: MT
NW_QUAD_CORNER_XY: 722273.76000 5237132.17000
NE_QUAD_CORNER_XY: 727002.65000 5237312.26000
SE_QUAD_CORNERY_XY: 727269.79000 5230367.32000
SW_QUAD_CORNER_XY: 722535.32000 5230187.20000
SECONDARY_NW_QUAD_XY: 722280.64000 5236913.65000
SECONDARY_NE_QUAD_XY: 727009.69000 5237093.75000
SECONDARY_SE_QUAD_XY: 727276.82000 5230148.84000
SECONDARY_SW_QUAD_XY: 722542.21000 5229968.71000
RMSE_XY: 4.20000
IMAGE_SOURCE: BLACK AND WHITE FILM
SOURCE_IMAGE_ID: NAPP 2641 137
SOURCE_IMAGE_DATE: 1990 7 1
SOURCE_DEM_DATE: 1995 11 3
AGENCY: WESTERN MAPPING CENTER (WMC)
PRODUCER: Analytical Surveys
PRODUCTION_SYSTEM: ORBIT OR_RECTIFY V.5.2
COMPRESSION: UNDEFINED
STANDARD_VERSION: 1996 12
METADATA_DATE: 1997 7 3
DATA_FILE_SIZE: 44294700
BYTE_COUNT: 5700
