FILENAME: O4711440.SWS.48093.tif
QUADRANGLE_NAME: FORT CONNAH
QUADRANT: SW
WEST_LONGITUDE: -114 7 30.00000
EAST_LONGITUDE: -114 3 45.00000
NORTH_LATITUDE: 47 26 15.00000
SOUTH_LATITUDE: 47 22 30.00000
PRODUCTION_DATE: 1995 11 2
RASTER_ORDER: LEFT_RIGHT/TOP_BOTTOM
BAND_ORGANIZATION: SINGLE FILE
BAND_CONTENT: BLACK&WHITE
BAND_CONTENT: UNDEFINED
BAND_CONTENT: UNDEFINED
BITS_PER_PIXEL: 8
SAMPLES_AND_LINES: 5670 7770
HORIZONTAL_DATUM: NAD83
HORIZONTAL_COORDINATE_SYSTEM: UTM
COORDINATE_ZONE: 11
HORIZONTAL_UNITS: METERS
HORIZONTAL_RESOLUTION: 1.00000
SECONDARY_HORIZONTAL_DATUM: NAD27
XY_ORIGIN: 716400.00000 5258280.00000
SECONDARY_XY_ORIGIN: 716477.94000 5258071.45100
NATION: US
STATE: MT
NW_QUAD_CORNER_XY: 716775.31200 5257791.20100
NE_QUAD_CORNER_XY: 721487.47400 5257967.40000
SE_QUAD_CORNERY_XY: 721749.83300 5251022.26600
SW_QUAD_CORNER_XY: 717032.08100 5250846.03500
SECONDARY_NW_QUAD_XY: 716782.05500 5257572.61400
SECONDARY_NE_QUAD_XY: 721494.36400 5257748.81700
SECONDARY_SE_QUAD_XY: 721756.72300 5250803.70600
SECONDARY_SW_QUAD_XY: 717038.82400 5250627.47000
RMSE_XY: 1.10000
IMAGE_SOURCE: BLACK AND WHITE FILM
SOURCE_IMAGE_ID: NAPP 2641 080
SOURCE_IMAGE_DATE: 1990 7 1
SOURCE_DEM_DATE: 1995 11 2
AGENCY: WESTERN MAPPING CENTER (WMC)
PRODUCER: Analytical Surveys
PRODUCTION_SYSTEM: ORBIT OR_RECTIFY V.5.2
COMPRESSION: UNDEFINED
STANDARD_VERSION: 1996 12
METADATA_DATE: 1997 7 3
DATA_FILE_SIZE: 44061570
BYTE_COUNT: 5670
