FILENAME: O4711439.NWS.48221.tif
QUADRANGLE_NAME: CHARLO
QUADRANT: NW
WEST_LONGITUDE: -114 15 0.00000
EAST_LONGITUDE: -114 11 15.00000
NORTH_LATITUDE: 47 30 0.00000
SOUTH_LATITUDE: 47 26 15.00000
PRODUCTION_DATE: 1995 10 31
RASTER_ORDER: LEFT_RIGHT/TOP_BOTTOM
BAND_ORGANIZATION: SINGLE FILE
BAND_CONTENT: BLACK&WHITE
BAND_CONTENT: UNDEFINED
BAND_CONTENT: UNDEFINED
BITS_PER_PIXEL: 8
SAMPLES_AND_LINES: 5670 7740
HORIZONTAL_DATUM: NAD83
HORIZONTAL_COORDINATE_SYSTEM: UTM
COORDINATE_ZONE: 11
HORIZONTAL_UNITS: METERS
HORIZONTAL_RESOLUTION: 1.00000
SECONDARY_HORIZONTAL_DATUM: NAD27
XY_ORIGIN: 706710.00000 5264880.00000
SECONDARY_XY_ORIGIN: 706788.14100 5264671.29300
NATION: US
STATE: MT
NW_QUAD_CORNER_XY: 707105.08400 5264395.47600
NE_QUAD_CORNER_XY: 711811.69500 5264564.05400
SE_QUAD_CORNERY_XY: 712063.12800 5257618.79800
SW_QUAD_CORNER_XY: 707350.92200 5257450.18900
SECONDARY_NW_QUAD_XY: 707111.53500 5264176.85600
SECONDARY_NE_QUAD_XY: 711818.29200 5264345.43800
SECONDARY_SE_QUAD_XY: 712069.72500 5257400.20500
SECONDARY_SW_QUAD_XY: 707357.37300 5257231.59100
RMSE_XY: 2.10000
IMAGE_SOURCE: BLACK AND WHITE FILM
SOURCE_IMAGE_ID: NAPP 2641 008
SOURCE_IMAGE_DATE: 1990 7 1
SOURCE_DEM_DATE: 1995 10 31
AGENCY: WESTERN MAPPING CENTER (WMC)
PRODUCER: Analytical Surveys
PRODUCTION_SYSTEM: ORBIT OR_RECTIFY V.5.2
COMPRESSION: UNDEFINED
STANDARD_VERSION: 1996 12
METADATA_DATE: 1997 7 3
DATA_FILE_SIZE: 43891470
BYTE_COUNT: 5670
