FILENAME: O4711431.SWS.48219.tif
QUADRANGLE_NAME: LOWER CROW RESERVOIR
QUADRANT: SW
WEST_LONGITUDE: -114 15 0.00000
EAST_LONGITUDE: -114 11 15.00000
NORTH_LATITUDE: 47 33 45.00000
SOUTH_LATITUDE: 47 30 0.00000
PRODUCTION_DATE: 1995 10 31
RASTER_ORDER: LEFT_RIGHT/TOP_BOTTOM
BAND_ORGANIZATION: SINGLE FILE
BAND_CONTENT: BLACK&WHITE
BAND_CONTENT: UNDEFINED
BAND_CONTENT: UNDEFINED
BITS_PER_PIXEL: 8
SAMPLES_AND_LINES: 5670 7740
HORIZONTAL_DATUM: NAD83
HORIZONTAL_COORDINATE_SYSTEM: UTM
COORDINATE_ZONE: 11
HORIZONTAL_UNITS: METERS
HORIZONTAL_RESOLUTION: 1.00000
SECONDARY_HORIZONTAL_DATUM: NAD27
XY_ORIGIN: 706470.00000 5271810.00000
SECONDARY_XY_ORIGIN: 706548.02200 5271601.11900
NATION: US
STATE: MT
NW_QUAD_CORNER_XY: 706858.99800 5271340.82200
NE_QUAD_CORNER_XY: 711560.00800 5271509.36700
SE_QUAD_CORNERY_XY: 711811.69500 5264564.05400
SW_QUAD_CORNER_XY: 707105.08400 5264395.47600
SECONDARY_NW_QUAD_XY: 706865.45000 5271122.18000
SECONDARY_NE_QUAD_XY: 711566.60700 5271290.73100
SECONDARY_SE_QUAD_XY: 711818.29200 5264345.43800
SECONDARY_SW_QUAD_XY: 707111.53500 5264176.85600
RMSE_XY: 2.10000
IMAGE_SOURCE: BLACK AND WHITE FILM
SOURCE_IMAGE_ID: NAPP 2641 010
SOURCE_IMAGE_DATE: 1990 7 1
SOURCE_DEM_DATE: 1995 10 31
AGENCY: WESTERN MAPPING CENTER (WMC)
PRODUCER: Analytical Surveys
PRODUCTION_SYSTEM: ORBIT OR_RECTIFY V.5.2
COMPRESSION: UNDEFINED
STANDARD_VERSION: 1996 12
METADATA_DATE: 1997 7 3
DATA_FILE_SIZE: 43891470
BYTE_COUNT: 5670
