FILENAME: O4711420.SES.48658.tif
QUADRANGLE_NAME: HOT SPRINGS NE
QUADRANT: SE
WEST_LONGITUDE: -114 33 45.00000
EAST_LONGITUDE: -114 30 0.00000
NORTH_LATITUDE: 47 41 15.00000
SOUTH_LATITUDE: 47 37 30.00000
PRODUCTION_DATE: 1995 10 25
RASTER_ORDER: LEFT_RIGHT/TOP_BOTTOM
BAND_ORGANIZATION: SINGLE FILE
BAND_CONTENT: BLACK&WHITE
BAND_CONTENT: UNDEFINED
BAND_CONTENT: UNDEFINED
BITS_PER_PIXEL: 8
SAMPLES_AND_LINES: 5610 7740
HORIZONTAL_DATUM: NAD83
HORIZONTAL_COORDINATE_SYSTEM: UTM
COORDINATE_ZONE: 11
HORIZONTAL_UNITS: METERS
HORIZONTAL_RESOLUTION: 1.00000
SECONDARY_HORIZONTAL_DATUM: NAD27
XY_ORIGIN: 682530.00000 5284920.00000
SECONDARY_XY_ORIGIN: 682607.65900 5284710.43400
NATION: US
STATE: MT
NW_QUAD_CORNER_XY: 682916.79200 5284446.15800
NE_QUAD_CORNER_XY: 687606.69300 5284595.68400
SE_QUAD_CORNERY_XY: 687830.83100 5277650.09300
SW_QUAD_CORNER_XY: 683135.32100 5277500.53700
SECONDARY_NW_QUAD_XY: 682922.51200 5284227.45300
SECONDARY_NE_QUAD_XY: 687612.55900 5284376.98300
SECONDARY_SE_QUAD_XY: 687836.69700 5277431.41200
SECONDARY_SW_QUAD_XY: 683141.04000 5277281.85100
RMSE_XY: 2.60000
IMAGE_SOURCE: BLACK AND WHITE FILM
SOURCE_IMAGE_ID: NAPP 2640 096
SOURCE_IMAGE_DATE: 1990 7 1
SOURCE_DEM_DATE: 1995 10 25
AGENCY: WESTERN MAPPING CENTER (WMC)
PRODUCER: Analytical Surveys
PRODUCTION_SYSTEM: ORBIT OR_RECTIFY V.5.2
COMPRESSION: UNDEFINED
STANDARD_VERSION: 1996 12
METADATA_DATE: 1997 7 4
DATA_FILE_SIZE: 43427010
BYTE_COUNT: 5610
