FILENAME: O4711415.NWS.48209.tif
QUADRANGLE_NAME: WILD HORSE ISLAND
QUADRANT: NW
WEST_LONGITUDE: -114 15 0.00000
EAST_LONGITUDE: -114 11 15.00000
NORTH_LATITUDE: 47 52 30.00000
SOUTH_LATITUDE: 47 48 45.00000
PRODUCTION_DATE: 1995 10 25
RASTER_ORDER: LEFT_RIGHT/TOP_BOTTOM
BAND_ORGANIZATION: SINGLE FILE
BAND_CONTENT: BLACK&WHITE
BAND_CONTENT: UNDEFINED
BAND_CONTENT: UNDEFINED
BITS_PER_PIXEL: 8
SAMPLES_AND_LINES: 5640 7740
HORIZONTAL_DATUM: NAD83
HORIZONTAL_COORDINATE_SYSTEM: UTM
COORDINATE_ZONE: 11
HORIZONTAL_UNITS: METERS
HORIZONTAL_RESOLUTION: 1.00000
SECONDARY_HORIZONTAL_DATUM: NAD27
XY_ORIGIN: 705240.00000 5306550.00000
SECONDARY_XY_ORIGIN: 705317.70200 5306339.97100
NATION: US
STATE: MT
NW_QUAD_CORNER_XY: 705624.86000 5306068.42900
NE_QUAD_CORNER_XY: 710297.78300 5306236.80000
SE_QUAD_CORNERY_XY: 710550.73200 5299291.19800
SW_QUAD_CORNER_XY: 705872.18100 5299122.79000
SECONDARY_NW_QUAD_XY: 705631.31500 5305849.69500
SECONDARY_NE_QUAD_XY: 710304.38400 5306018.07100
SECONDARY_SE_QUAD_XY: 710557.33400 5299072.48600
SECONDARY_SW_QUAD_XY: 705878.63600 5298904.07300
RMSE_XY: 2.20000
IMAGE_SOURCE: BLACK AND WHITE FILM
SOURCE_IMAGE_ID: NAPP 2641 020
SOURCE_IMAGE_DATE: 1990 7 1
SOURCE_DEM_DATE: 1995 10 25
AGENCY: WESTERN MAPPING CENTER (WMC)
PRODUCER: Analytical Surveys
PRODUCTION_SYSTEM: ORBIT OR_RECTIFY V.5.2
COMPRESSION: UNDEFINED
STANDARD_VERSION: 1996 12
METADATA_DATE: 1997 7 3
DATA_FILE_SIZE: 43659240
BYTE_COUNT: 5640
