FILENAME: O4711415.SWS.48211.tif
QUADRANGLE_NAME: WILD HORSE ISLAND
QUADRANT: SW
WEST_LONGITUDE: -114 15 0.00000
EAST_LONGITUDE: -114 11 15.00000
NORTH_LATITUDE: 47 48 45.00000
SOUTH_LATITUDE: 47 45 0.00000
PRODUCTION_DATE: 1995 10 25
RASTER_ORDER: LEFT_RIGHT/TOP_BOTTOM
BAND_ORGANIZATION: SINGLE FILE
BAND_CONTENT: BLACK&WHITE
BAND_CONTENT: UNDEFINED
BAND_CONTENT: UNDEFINED
BITS_PER_PIXEL: 8
SAMPLES_AND_LINES: 5640 7770
HORIZONTAL_DATUM: NAD83
HORIZONTAL_COORDINATE_SYSTEM: UTM
COORDINATE_ZONE: 11
HORIZONTAL_UNITS: METERS
HORIZONTAL_RESOLUTION: 1.00000
SECONDARY_HORIZONTAL_DATUM: NAD27
XY_ORIGIN: 705480.00000 5299620.00000
SECONDARY_XY_ORIGIN: 705557.75600 5299410.23700
NATION: US
STATE: MT
NW_QUAD_CORNER_XY: 705872.18100 5299122.79000
NE_QUAD_CORNER_XY: 710550.73200 5299291.19800
SE_QUAD_CORNERY_XY: 710803.43000 5292345.65300
SW_QUAD_CORNER_XY: 706119.25600 5292177.21000
SECONDARY_NW_QUAD_XY: 705878.63600 5298904.07300
SECONDARY_NE_QUAD_XY: 710557.33400 5299072.48600
SECONDARY_SE_QUAD_XY: 710810.03100 5292126.95900
SECONDARY_SW_QUAD_XY: 706125.71000 5291958.51100
RMSE_XY: 3.40000
IMAGE_SOURCE: BLACK AND WHITE FILM
SOURCE_IMAGE_ID: NAPP 2641 018
SOURCE_IMAGE_DATE: 1990 7 1
SOURCE_DEM_DATE: 1995 10 25
AGENCY: WESTERN MAPPING CENTER (WMC)
PRODUCER: Analytical Surveys
PRODUCTION_SYSTEM: ORBIT OR_RECTIFY V.5.2
COMPRESSION: UNDEFINED
STANDARD_VERSION: 1996 12
METADATA_DATE: 1997 7 4
DATA_FILE_SIZE: 43828440
BYTE_COUNT: 5640
