FILENAME: O4711413.NWS.48473.tif
QUADRANGLE_NAME: IRVINE LOOKOUT TOWER
QUADRANT: NW
WEST_LONGITUDE: -114 30 0.00000
EAST_LONGITUDE: -114 26 15.00000
NORTH_LATITUDE: 47 52 30.00000
SOUTH_LATITUDE: 47 48 45.00000
PRODUCTION_DATE: 1995 10 25
RASTER_ORDER: LEFT_RIGHT/TOP_BOTTOM
BAND_ORGANIZATION: SINGLE FILE
BAND_CONTENT: BLACK&WHITE
BAND_CONTENT: UNDEFINED
BAND_CONTENT: UNDEFINED
BITS_PER_PIXEL: 8
SAMPLES_AND_LINES: 5610 7740
HORIZONTAL_DATUM: NAD83
HORIZONTAL_COORDINATE_SYSTEM: UTM
COORDINATE_ZONE: 11
HORIZONTAL_UNITS: METERS
HORIZONTAL_RESOLUTION: 1.00000
SECONDARY_HORIZONTAL_DATUM: NAD27
XY_ORIGIN: 686550.00000 5305890.00000
SECONDARY_XY_ORIGIN: 686627.64700 5305679.81100
NATION: US
STATE: MT
NW_QUAD_CORNER_XY: 686932.93000 5305432.82700
NE_QUAD_CORNER_XY: 691605.94700 5305586.04600
SE_QUAD_CORNERY_XY: 691836.38600 5298640.30300
SW_QUAD_CORNER_XY: 687157.74200 5298487.05100
SECONDARY_NW_QUAD_XY: 686938.79800 5305214.07300
SECONDARY_NE_QUAD_XY: 691611.96200 5305367.29700
SECONDARY_SE_QUAD_XY: 691842.40000 5298421.57100
SECONDARY_SW_QUAD_XY: 687163.61000 5298268.31400
RMSE_XY: 3.70000
IMAGE_SOURCE: BLACK AND WHITE FILM
SOURCE_IMAGE_ID: NAPP 2640 121
SOURCE_IMAGE_DATE: 1990 7 1
SOURCE_DEM_DATE: 1995 10 25
AGENCY: WESTERN MAPPING CENTER (WMC)
PRODUCER: Analytical Surveys
PRODUCTION_SYSTEM: ORBIT OR_RECTIFY V.5.2
COMPRESSION: UNDEFINED
STANDARD_VERSION: 1996 12
METADATA_DATE: 1997 7 3
DATA_FILE_SIZE: 43427010
BYTE_COUNT: 5610
