FILENAME: O4711412.SWS.48655.tif
QUADRANGLE_NAME: NIARADA
QUADRANT: SW
WEST_LONGITUDE: -114 37 30.00000
EAST_LONGITUDE: -114 33 45.00000
NORTH_LATITUDE: 47 48 45.00000
SOUTH_LATITUDE: 47 45 0.00000
PRODUCTION_DATE: 1995 10 25
RASTER_ORDER: LEFT_RIGHT/TOP_BOTTOM
BAND_ORGANIZATION: SINGLE FILE
BAND_CONTENT: BLACK&WHITE
BAND_CONTENT: UNDEFINED
BAND_CONTENT: UNDEFINED
BITS_PER_PIXEL: 8
SAMPLES_AND_LINES: 5610 7740
HORIZONTAL_DATUM: NAD83
HORIZONTAL_COORDINATE_SYSTEM: UTM
COORDINATE_ZONE: 11
HORIZONTAL_UNITS: METERS
HORIZONTAL_RESOLUTION: 1.00000
SECONDARY_HORIZONTAL_DATUM: NAD27
XY_ORIGIN: 677400.00000 5298660.00000
SECONDARY_XY_ORIGIN: 677477.43200 5298449.99700
NATION: US
STATE: MT
NW_QUAD_CORNER_XY: 677800.39000 5298191.91100
NE_QUAD_CORNER_XY: 682479.07600 5298337.58700
SE_QUAD_CORNERY_XY: 682698.04300 5291391.84200
SW_QUAD_CORNER_XY: 678013.73700 5291246.13500
SECONDARY_NW_QUAD_XY: 677805.96400 5297973.16500
SECONDARY_NE_QUAD_XY: 682484.79700 5298118.84500
SECONDARY_SE_QUAD_XY: 682703.76400 5291173.11700
SECONDARY_SW_QUAD_XY: 678019.31000 5291027.40600
RMSE_XY: 3.10000
IMAGE_SOURCE: BLACK AND WHITE FILM
SOURCE_IMAGE_ID: NAPP 2640 036
SOURCE_IMAGE_DATE: 1990 7 1
SOURCE_DEM_DATE: 1995 10 25
AGENCY: WESTERN MAPPING CENTER (WMC)
PRODUCER: Analytical Surveys
PRODUCTION_SYSTEM: ORBIT OR_RECTIFY V.5.2
COMPRESSION: UNDEFINED
STANDARD_VERSION: 1996 12
METADATA_DATE: 1997 7 4
DATA_FILE_SIZE: 43427010
BYTE_COUNT: 5610
