FILENAME: O4711407.NWS.48205.tif
QUADRANGLE_NAME: ROLLINS
QUADRANT: NW
WEST_LONGITUDE: -114 15 0.00000
EAST_LONGITUDE: -114 11 15.00000
NORTH_LATITUDE: 48 0 0.00000
SOUTH_LATITUDE: 47 56 15.00000
PRODUCTION_DATE: 1994 11 4
RASTER_ORDER: LEFT_RIGHT/TOP_BOTTOM
BAND_ORGANIZATION: SINGLE FILE
BAND_CONTENT: BLACK&WHITE
BAND_CONTENT: UNDEFINED
BAND_CONTENT: UNDEFINED
BITS_PER_PIXEL: 8
SAMPLES_AND_LINES: 5589 7726
HORIZONTAL_DATUM: NAD83
HORIZONTAL_COORDINATE_SYSTEM: UTM
COORDINATE_ZONE: 11
HORIZONTAL_UNITS: METERS
HORIZONTAL_RESOLUTION: 1.00000
SECONDARY_HORIZONTAL_DATUM: NAD27
XY_ORIGIN: 704757.00000 5320429.00000
SECONDARY_XY_ORIGIN: 704834.60900 5320218.41300
NATION: US
STATE: MT
NW_QUAD_CORNER_XY: 705129.47900 5319959.88200
NE_QUAD_CORNER_XY: 709791.12800 5320128.17700
SE_QUAD_CORNERY_XY: 710044.58100 5313182.46000
SW_QUAD_CORNER_XY: 705377.29200 5313014.12600
SECONDARY_NW_QUAD_XY: 705135.93500 5319741.11600
SECONDARY_NE_QUAD_XY: 709797.73100 5319909.41700
SECONDARY_SE_QUAD_XY: 710051.18300 5312963.71500
SECONDARY_SW_QUAD_XY: 705383.74800 5312795.37600
RMSE_XY: 2.20000
IMAGE_SOURCE: BLACK AND WHITE FILM
SOURCE_IMAGE_ID: NAPP 2641 024
SOURCE_IMAGE_DATE: 1990 7 1
SOURCE_DEM_DATE: 1994 11 4
AGENCY: WESTERN MAPPING CENTER (WMC)
PRODUCER: Science Applications International
PRODUCTION_SYSTEM: GIS/MAGIC
COMPRESSION: UNDEFINED
STANDARD_VERSION: 1996 12
METADATA_DATE: 1997 6 19
DATA_FILE_SIZE: 43186203
BYTE_COUNT: 5589
