FILENAME: O4711403.SES.48854.tif
QUADRANGLE_NAME: HUBBART RESERVOIR
QUADRANT: SE
WEST_LONGITUDE: -114 41 15.00000
EAST_LONGITUDE: -114 37 30.00000
NORTH_LATITUDE: 47 56 15.00000
SOUTH_LATITUDE: 47 52 30.00000
PRODUCTION_DATE: 1994 11 4
RASTER_ORDER: LEFT_RIGHT/TOP_BOTTOM
BAND_ORGANIZATION: SINGLE FILE
BAND_CONTENT: BLACK&WHITE
BAND_CONTENT: UNDEFINED
BAND_CONTENT: UNDEFINED
BITS_PER_PIXEL: 8
SAMPLES_AND_LINES: 5556 7699
HORIZONTAL_DATUM: NAD83
HORIZONTAL_COORDINATE_SYSTEM: UTM
COORDINATE_ZONE: 11
HORIZONTAL_UNITS: METERS
HORIZONTAL_RESOLUTION: 1.00000
SECONDARY_HORIZONTAL_DATUM: NAD27
XY_ORIGIN: 672332.00000 5312384.00000
SECONDARY_XY_ORIGIN: 672409.15400 5312173.37000
NATION: US
STATE: MT
NW_QUAD_CORNER_XY: 672705.60600 5311941.82600
NE_QUAD_CORNER_XY: 677373.05700 5312083.65300
SE_QUAD_CORNERY_XY: 677586.83000 5305137.75100
SW_QUAD_CORNER_XY: 672913.74800 5304995.89300
SECONDARY_NW_QUAD_XY: 672711.03400 5311723.04200
SECONDARY_NE_QUAD_XY: 677378.63200 5311864.87400
SECONDARY_SE_QUAD_XY: 677592.40400 5304918.98700
SECONDARY_SW_QUAD_XY: 672919.17600 5304777.12500
RMSE_XY: 2.40000
IMAGE_SOURCE: BLACK AND WHITE FILM
SOURCE_IMAGE_ID: NAPP 2640 008
SOURCE_IMAGE_DATE: 1990 7 1
SOURCE_DEM_DATE: 1994 11 4
AGENCY: WESTERN MAPPING CENTER (WMC)
PRODUCER: Science Applications International
PRODUCTION_SYSTEM: GIS/MAGIC
COMPRESSION: UNDEFINED
STANDARD_VERSION: 1996 12
METADATA_DATE: 1997 7 16
DATA_FILE_SIZE: 42781200
BYTE_COUNT: 5556
