FILENAME: O4711401.NWS.49173.tif
QUADRANGLE_NAME: SHRODER CREEK
QUADRANT: NW
WEST_LONGITUDE: -115 0 0.00000
EAST_LONGITUDE: -114 56 15.00000
NORTH_LATITUDE: 48 0 0.00000
SOUTH_LATITUDE: 47 56 15.00000
PRODUCTION_DATE: 1994 10 13
RASTER_ORDER: LEFT_RIGHT/TOP_BOTTOM
BAND_ORGANIZATION: SINGLE FILE
BAND_CONTENT: BLACK&WHITE
BAND_CONTENT: UNDEFINED
BAND_CONTENT: UNDEFINED
BITS_PER_PIXEL: 8
SAMPLES_AND_LINES: 5523 7680
HORIZONTAL_DATUM: NAD83
HORIZONTAL_COORDINATE_SYSTEM: UTM
COORDINATE_ZONE: 11
HORIZONTAL_UNITS: METERS
HORIZONTAL_RESOLUTION: 1.00000
SECONDARY_HORIZONTAL_DATUM: NAD27
XY_ORIGIN: 648814.00000 5318659.00000
SECONDARY_XY_ORIGIN: 648891.53800 5318447.95400
NATION: US
STATE: MT
NW_QUAD_CORNER_XY: 649187.87500 5318235.61300
NE_QUAD_CORNER_XY: 653849.79100 5318358.48800
SE_QUAD_CORNERY_XY: 654035.59800 5311412.37100
SW_QUAD_CORNER_XY: 649368.04700 5311289.46900
SECONDARY_NW_QUAD_XY: 649192.57000 5318016.79400
SECONDARY_NE_QUAD_XY: 653854.63300 5318139.67200
SECONDARY_SE_QUAD_XY: 654040.43900 5311193.57100
SECONDARY_SW_QUAD_XY: 649372.74200 5311070.66500
RMSE_XY: 2.00000
IMAGE_SOURCE: BLACK AND WHITE FILM
SOURCE_IMAGE_ID: NAPP 2642 032
SOURCE_IMAGE_DATE: 1990 7 17
SOURCE_DEM_DATE: 1994 10 13
AGENCY: WESTERN MAPPING CENTER (WMC)
PRODUCER: Science Applications International
PRODUCTION_SYSTEM: GIS/MAGIC
COMPRESSION: UNDEFINED
STANDARD_VERSION: 1996 12
METADATA_DATE: 1997 7 15
DATA_FILE_SIZE: 42422163
BYTE_COUNT: 5523
