FILENAME: O4810463.NWS.1134906.tif
QUADRANGLE_NAME: BAINVILLE SW
QUADRANT: NW
WEST_LONGITUDE: -104 15 0.00000
EAST_LONGITUDE: -104 11 15.00000
NORTH_LATITUDE: 48 7 30.00000
SOUTH_LATITUDE: 48 3 45.00000
PRODUCTION_DATE: 2001 3 9
RASTER_ORDER: LEFT_RIGHT/TOP_BOTTOM
BAND_ORGANIZATION: SINGLE FILE
BAND_CONTENT: BLACK&WHITE
BAND_CONTENT: UNDEFINED
BAND_CONTENT: UNDEFINED
BITS_PER_PIXEL: 8
SAMPLES_AND_LINES: 5372 7607
HORIZONTAL_DATUM: NAD83
HORIZONTAL_COORDINATE_SYSTEM: UTM
COORDINATE_ZONE: 13
HORIZONTAL_UNITS: meters
HORIZONTAL_RESOLUTION: 1.00000
SECONDARY_HORIZONTAL_DATUM: NAD27
XY_ORIGIN: 555469.00000 5330820.00000
SECONDARY_XY_ORIGIN: 555507.93100 5330599.18100
NATION: US
STATE: MT
NW_QUAD_CORNER_XY: 555811.17200 5330465.60500
NE_QUAD_CORNER_XY: 560462.07100 5330512.82900
SE_QUAD_CORNERY_XY: 560535.39000 5323566.17400
SW_QUAD_CORNER_XY: 555878.85100 5323518.93900
SECONDARY_NW_QUAD_XY: 555812.93300 5330246.70500
SECONDARY_NE_QUAD_XY: 560463.97900 5330293.93000
SECONDARY_SE_QUAD_XY: 560537.29800 5323347.28900
SECONDARY_SW_QUAD_XY: 555880.61200 5323300.05300
RMSE_XY: 2.39000
IMAGE_SOURCE: BLACK AND WHITE FILM
SOURCE_IMAGE_ID: NAPP 9123-196
SOURCE_IMAGE_DATE: 1997 8 3
SOURCE_DEM_DATE: 1996 0 0
AGENCY: WESTERN MAPPING CENTER (WMC)
PRODUCER: WOOLPERT LLP
PRODUCTION_SYSTEM: INTERGRAPH ISPM, ISIR
COMPRESSION: UNDEFINED
STANDARD_VERSION: 1996 12
METADATA_DATE: 2001 3 9
DATA_FILE_SIZE: 40870176
BYTE_COUNT: 5372
