FILENAME: O4810463.SWS.1134908.tif
QUADRANGLE_NAME: BAINVILLE SW
QUADRANT: SW
WEST_LONGITUDE: -104 15 0.00000
EAST_LONGITUDE: -104 11 15.00000
NORTH_LATITUDE: 48 3 45.00000
SOUTH_LATITUDE: 48 0 0.00000
PRODUCTION_DATE: 2001 3 9
RASTER_ORDER: LEFT_RIGHT/TOP_BOTTOM
BAND_ORGANIZATION: SINGLE FILE
BAND_CONTENT: BLACK&WHITE
BAND_CONTENT: UNDEFINED
BAND_CONTENT: UNDEFINED
BITS_PER_PIXEL: 8
SAMPLES_AND_LINES: 5378 7607
HORIZONTAL_DATUM: NAD83
HORIZONTAL_COORDINATE_SYSTEM: UTM
COORDINATE_ZONE: 13
HORIZONTAL_UNITS: meters
HORIZONTAL_RESOLUTION: 1.00000
SECONDARY_HORIZONTAL_DATUM: NAD27
XY_ORIGIN: 555536.00000 5323874.00000
SECONDARY_XY_ORIGIN: 555574.96400 5323653.28000
NATION: US
STATE: MT
NW_QUAD_CORNER_XY: 555878.85100 5323518.93900
NE_QUAD_CORNER_XY: 560535.39000 5323566.17400
SE_QUAD_CORNERY_XY: 560608.63700 5316619.59300
SW_QUAD_CORNER_XY: 555946.46300 5316572.34800
SECONDARY_NW_QUAD_XY: 555880.61200 5323300.05300
SECONDARY_NE_QUAD_XY: 560537.29800 5323347.28900
SECONDARY_SE_QUAD_XY: 560610.54400 5316400.72300
SECONDARY_SW_QUAD_XY: 555948.22300 5316353.47600
RMSE_XY: 2.55000
IMAGE_SOURCE: BLACK AND WHITE FILM
SOURCE_IMAGE_ID: NAPP 9123-198
SOURCE_IMAGE_DATE: 1997 8 3
SOURCE_IMAGE_ID: NAPP 9123-199
SOURCE_IMAGE_DATE: 1997 8 3
SOURCE_DEM_DATE: 1996 0 0
AGENCY: WESTERN MAPPING CENTER (WMC)
PRODUCER: WOOLPERT LLP
PRODUCTION_SYSTEM: INTERGRAPH ISPM, ISIR
COMPRESSION: UNDEFINED
STANDARD_VERSION: 1996 12
METADATA_DATE: 2001 3 28
DATA_FILE_SIZE: 40915824
BYTE_COUNT: 5378
