FILENAME: O4810461.NES.1134881.tif
QUADRANGLE_NAME: THREE BUTTES
QUADRANT: NE
WEST_LONGITUDE: -104 26 15.00000
EAST_LONGITUDE: -104 22 30.00000
NORTH_LATITUDE: 48 7 30.00000
SOUTH_LATITUDE: 48 3 45.00000
PRODUCTION_DATE: 2001 03 15
RASTER_ORDER: LEFT_RIGHT/TOP_BOTTOM
BAND_ORGANIZATION: SINGLE FILE
BAND_CONTENT: BLACK&WHITE
BAND_CONTENT: UNDEFINED
BAND_CONTENT: UNDEFINED
BITS_PER_PIXEL: 8
SAMPLES_AND_LINES: 5356 7596
HORIZONTAL_DATUM: NAD83
HORIZONTAL_COORDINATE_SYSTEM: UTM
COORDINATE_ZONE: 13
HORIZONTAL_UNITS: METERS
HORIZONTAL_RESOLUTION: 1.00000
SECONDARY_HORIZONTAL_DATUM: NAD27
XY_ORIGIN: 541515.00000 5330690.00000
SECONDARY_XY_ORIGIN: 541554.09100 5330469.12700
NATION: US
STATE: MT
NW_QUAD_CORNER_XY: 541858.43500 5330346.60400
NE_QUAD_CORNER_XY: 546509.35400 5330382.49300
SE_QUAD_CORNERY_XY: 546565.75200 5323435.80800
SW_QUAD_CORNER_XY: 541909.19300 5323399.91100
SECONDARY_NW_QUAD_XY: 541859.75600 5330127.70100
SECONDARY_NE_QUAD_XY: 546510.82100 5330163.59100
SECONDARY_SE_QUAD_XY: 546567.21900 5323216.91900
SECONDARY_SW_QUAD_XY: 541910.51400 5323181.02100
RMSE_XY: 2.38000
IMAGE_SOURCE: BLACK AND WHITE FILM
SOURCE_IMAGE_ID: NAPP 9103-052
SOURCE_IMAGE_DATE: 1996 07 15
SOURCE_IMAGE_ID: NAPP 9103-051
SOURCE_IMAGE_DATE: 1996 07 15
SOURCE_IMAGE_ID: NAPP 9083-038
SOURCE_IMAGE_DATE: 1996 06 12
SOURCE_IMAGE_ID: NAPP 9083-039
SOURCE_IMAGE_DATE: 1996 06 12
SOURCE_IMAGE_ID: NAPP 9095-092
SOURCE_IMAGE_DATE: 1996 07 09
SOURCE_DEM_DATE: 1996 00 00
AGENCY: WESTERN MAPPING CENTER (WMC)
PRODUCER: WOOLPERT LLP
PRODUCTION_SYSTEM: INTERGRAPH ISPM, ISIR
COMPRESSION: UNDEFINED
STANDARD_VERSION: 1996 12
METADATA_DATE: 2001 4 3
DATA_FILE_SIZE: 40689532
BYTE_COUNT: 5356
