FILENAME: O4810455.SES.1134903.tif
QUADRANGLE_NAME: BAINVILLE
QUADRANT: SE
WEST_LONGITUDE: -104 11 15.00000
EAST_LONGITUDE: -104 7 30.00000
NORTH_LATITUDE: 48 11 15.00000
SOUTH_LATITUDE: 48 7 30.00000
PRODUCTION_DATE: 2001 3 9
RASTER_ORDER: LEFT_RIGHT/TOP_BOTTOM
BAND_ORGANIZATION: SINGLE FILE
BAND_CONTENT: BLACK&WHITE
BAND_CONTENT: UNDEFINED
BAND_CONTENT: UNDEFINED
BITS_PER_PIXEL: 8
SAMPLES_AND_LINES: 5372 7611
HORIZONTAL_DATUM: NAD83
HORIZONTAL_COORDINATE_SYSTEM: UTM
COORDINATE_ZONE: 13
HORIZONTAL_UNITS: meters
HORIZONTAL_RESOLUTION: 1.00000
SECONDARY_HORIZONTAL_DATUM: NAD27
XY_ORIGIN: 560046.00000 5337818.00000
SECONDARY_XY_ORIGIN: 560084.83500 5337597.07700
NATION: US
STATE: MT
NW_QUAD_CORNER_XY: 560388.67900 5337459.55800
NE_QUAD_CORNER_XY: 565033.92400 5337510.54700
SE_QUAD_CORNERY_XY: 565112.96200 5330563.83000
SW_QUAD_CORNER_XY: 560462.07100 5330512.82900
SECONDARY_NW_QUAD_XY: 560390.58700 5337240.64700
SECONDARY_NE_QUAD_XY: 565035.97900 5337291.63800
SECONDARY_SE_QUAD_XY: 565115.01600 5330344.93300
SECONDARY_SW_QUAD_XY: 560463.97900 5330293.93000
RMSE_XY: 2.31000
IMAGE_SOURCE: BLACK AND WHITE FILM
SOURCE_IMAGE_ID: NAPP 9123-139
SOURCE_IMAGE_DATE: 1997 8 3
SOURCE_DEM_DATE: 1998 0 0
AGENCY: WESTERN MAPPING CENTER (WMC)
PRODUCER: WOOLPERT LLP
PRODUCTION_SYSTEM: INTERGRAPH ISPM, ISIR
COMPRESSION: UNDEFINED
STANDARD_VERSION: 1996 12
METADATA_DATE: 2001 3 9
DATA_FILE_SIZE: 40891664
BYTE_COUNT: 5372
