FILENAME: O4810449.SWS.1133017.tif
QUADRANGLE_NAME: BROCKTON
QUADRANT: SW
WEST_LONGITUDE: -105 0 0.00000
EAST_LONGITUDE: -104 56 15.00000
NORTH_LATITUDE: 48 11 15.00000
SOUTH_LATITUDE: 48 7 30.00000
PRODUCTION_DATE: 2001 3 13
RASTER_ORDER: LEFT_RIGHT/TOP_BOTTOM
BAND_ORGANIZATION: SINGLE FILE
BAND_CONTENT: BLACK&WHITE
BAND_CONTENT: UNDEFINED
BAND_CONTENT: UNDEFINED
BITS_PER_PIXEL: 8
SAMPLES_AND_LINES: 5301 7562
HORIZONTAL_DATUM: NAD83
HORIZONTAL_COORDINATE_SYSTEM: UTM
COORDINATE_ZONE: 13
HORIZONTAL_UNITS: meters
HORIZONTAL_RESOLUTION: 1.00000
SECONDARY_HORIZONTAL_DATUM: NAD27
XY_ORIGIN: 499655.00000 5337450.00000
SECONDARY_XY_ORIGIN: 499694.36400 5337228.87200
NATION: US
STATE: MT
NW_QUAD_CORNER_XY: 500000.00000 5337140.41200
NE_QUAD_CORNER_XY: 504645.30000 5337142.30100
SE_QUAD_CORNERY_XY: 504650.94500 5330195.49600
SW_QUAD_CORNER_XY: 500000.00000 5330193.60700
SECONDARY_NW_QUAD_XY: 500000.00000 5336921.49100
SECONDARY_NE_QUAD_XY: 504645.44700 5336923.37900
SECONDARY_SE_QUAD_XY: 504651.09200 5329976.58700
SECONDARY_SW_QUAD_XY: 500000.00000 5329974.69800
RMSE_XY: 1.55000
IMAGE_SOURCE: BLACK AND WHITE FILM
SOURCE_IMAGE_ID: NAPP 9096-115
SOURCE_IMAGE_DATE: 1996 7 9
SOURCE_DEM_DATE: 1998 0 0
AGENCY: WESTERN MAPPING CENTER (WMC)
PRODUCER: WOOLPERT LLP
PRODUCTION_SYSTEM: INTERGRAPH ISPM, ISIR
COMPRESSION: UNDEFINED
STANDARD_VERSION: 1996 12
METADATA_DATE: 2001 3 13
DATA_FILE_SIZE: 40091463
BYTE_COUNT: 5301
