FILENAME: O4810447.NWS.1163544.tif
QUADRANGLE_NAME: BRUSH MOUNTAIN SW
QUADRANT: NW
WEST_LONGITUDE: -104 15 0.00000
EAST_LONGITUDE: -104 11 15.00000
NORTH_LATITUDE: 48 22 30.00000
SOUTH_LATITUDE: 48 18 45.00000
PRODUCTION_DATE: 2001 10 7
RASTER_ORDER: LEFT_RIGHT/TOP_BOTTOM
BAND_ORGANIZATION: SINGLE FILE
BAND_CONTENT: BLACK&WHITE
BAND_CONTENT: UNDEFINED
BAND_CONTENT: UNDEFINED
BITS_PER_PIXEL: 8
SAMPLES_AND_LINES: 5350 7607
HORIZONTAL_DATUM: NAD83
HORIZONTAL_COORDINATE_SYSTEM: UTM
COORDINATE_ZONE: 13
HORIZONTAL_UNITS: meters
HORIZONTAL_RESOLUTION: 1.00000
SECONDARY_HORIZONTAL_DATUM: NAD27
XY_ORIGIN: 555197.00000 5358608.00000
SECONDARY_XY_ORIGIN: 555235.78200 5358386.80400
NATION: US
STATE: MT
NW_QUAD_CORNER_XY: 555539.78900 5358253.01500
NE_QUAD_CORNER_XY: 560168.07000 5358300.19200
SE_QUAD_CORNERY_XY: 560241.67900 5351353.24000
SW_QUAD_CORNER_XY: 555607.73500 5351306.05100
SECONDARY_NW_QUAD_XY: 555541.55000 5358034.06900
SECONDARY_NE_QUAD_XY: 560169.97800 5358081.24800
SECONDARY_SE_QUAD_XY: 560243.58700 5351134.30500
SECONDARY_SW_QUAD_XY: 555609.49600 5351087.11500
RMSE_XY: 3.25000
IMAGE_SOURCE: BLACK AND WHITE FILM
SOURCE_IMAGE_ID: NAPP 9123-188
SOURCE_IMAGE_DATE: 1997 8 3
SOURCE_DEM_DATE: 1998 0 0
AGENCY: WESTERN MAPPING CENTER (WMC)
PRODUCER: WOOLPERT LLP
PRODUCTION_SYSTEM: INTERGRAPH ISPM, ISIR
COMPRESSION: UNDEFINED
STANDARD_VERSION: 1996 12
METADATA_DATE: 2001 10 7
DATA_FILE_SIZE: 40702800
BYTE_COUNT: 5350
