FILENAME: O4810446.NWS.1163532.tif
QUADRANGLE_NAME: FROID SE
QUADRANT: NW
WEST_LONGITUDE: -104 22 30.00000
EAST_LONGITUDE: -104 18 45.00000
NORTH_LATITUDE: 48 22 30.00000
SOUTH_LATITUDE: 48 18 45.00000
PRODUCTION_DATE: 2001 10 7
RASTER_ORDER: LEFT_RIGHT/TOP_BOTTOM
BAND_ORGANIZATION: SINGLE FILE
BAND_CONTENT: BLACK&WHITE
BAND_CONTENT: UNDEFINED
BAND_CONTENT: UNDEFINED
BITS_PER_PIXEL: 8
SAMPLES_AND_LINES: 5339 7600
HORIZONTAL_DATUM: NAD83
HORIZONTAL_COORDINATE_SYSTEM: UTM
COORDINATE_ZONE: 13
HORIZONTAL_UNITS: meters
HORIZONTAL_RESOLUTION: 1.00000
SECONDARY_HORIZONTAL_DATUM: NAD27
XY_ORIGIN: 545940.00000 5358517.00000
SECONDARY_XY_ORIGIN: 545978.88300 5358295.76100
NATION: US
STATE: MT
NW_QUAD_CORNER_XY: 546283.20400 5358169.98500
NE_QUAD_CORNER_XY: 550911.50000 5358209.61300
SE_QUAD_CORNERY_XY: 550973.78300 5351262.63700
SW_QUAD_CORNER_XY: 546339.82500 5351222.99900
SECONDARY_NW_QUAD_XY: 546284.67200 5357951.03600
SECONDARY_NE_QUAD_XY: 550913.11500 5357990.66500
SECONDARY_SE_QUAD_XY: 550975.39800 5351043.70000
SECONDARY_SW_QUAD_XY: 546341.29300 5351004.06100
RMSE_XY: 3.89000
IMAGE_SOURCE: BLACK AND WHITE FILM
SOURCE_IMAGE_ID: NAPP 9095-100
SOURCE_IMAGE_DATE: 1996 7 9
SOURCE_DEM_DATE: 1998 0 0
AGENCY: WESTERN MAPPING CENTER (WMC)
PRODUCER: WOOLPERT LLP
PRODUCTION_SYSTEM: INTERGRAPH ISPM, ISIR
COMPRESSION: UNDEFINED
STANDARD_VERSION: 1996 12
METADATA_DATE: 2001 10 7
DATA_FILE_SIZE: 40581739
BYTE_COUNT: 5339
