FILENAME: O4810445.SWS.1163522.tif
QUADRANGLE_NAME: FROID
QUADRANT: SW
WEST_LONGITUDE: -104 30 0.00000
EAST_LONGITUDE: -104 26 15.00000
NORTH_LATITUDE: 48 18 45.00000
SOUTH_LATITUDE: 48 15 0.00000
PRODUCTION_DATE: 2001 10 7
RASTER_ORDER: LEFT_RIGHT/TOP_BOTTOM
BAND_ORGANIZATION: SINGLE FILE
BAND_CONTENT: BLACK&WHITE
BAND_CONTENT: UNDEFINED
BAND_CONTENT: UNDEFINED
BITS_PER_PIXEL: 8
SAMPLES_AND_LINES: 5333 7592
HORIZONTAL_DATUM: NAD83
HORIZONTAL_COORDINATE_SYSTEM: UTM
COORDINATE_ZONE: 13
HORIZONTAL_UNITS: meters
HORIZONTAL_RESOLUTION: 1.00000
SECONDARY_HORIZONTAL_DATUM: NAD27
XY_ORIGIN: 536729.00000 5351495.00000
SECONDARY_XY_ORIGIN: 536768.03100 5351273.82800
NATION: US
STATE: MT
NW_QUAD_CORNER_XY: 537071.89000 5351155.04900
NE_QUAD_CORNER_XY: 541705.86000 5351187.13700
SE_QUAD_CORNERY_XY: 541756.76900 5344240.21700
SW_QUAD_CORNER_XY: 537117.14200 5344208.12200
SECONDARY_NW_QUAD_XY: 537073.06400 5350936.10800
SECONDARY_NE_QUAD_XY: 541707.18100 5350968.19700
SECONDARY_SE_QUAD_XY: 541758.09000 5344021.28900
SECONDARY_SW_QUAD_XY: 537118.31600 5343989.19200
RMSE_XY: 3.17000
IMAGE_SOURCE: BLACK AND WHITE FILM
SOURCE_IMAGE_ID: NAPP 9124-123
SOURCE_IMAGE_DATE: 1997 8 22
SOURCE_DEM_DATE: 1998 0 0
AGENCY: WESTERN MAPPING CENTER (WMC)
PRODUCER: WOOLPERT LLP
PRODUCTION_SYSTEM: INTERGRAPH ISPM, ISIR
COMPRESSION: UNDEFINED
STANDARD_VERSION: 1996 12
METADATA_DATE: 2001 10 7
DATA_FILE_SIZE: 40493469
BYTE_COUNT: 5333
