FILENAME: O4810443.SWS.1163101.tif
QUADRANGLE_NAME: ROCKY POINT
QUADRANT: SW
WEST_LONGITUDE: -104 45 0.00000
EAST_LONGITUDE: -104 41 15.00000
NORTH_LATITUDE: 48 18 45.00000
SOUTH_LATITUDE: 48 15 0.00000
PRODUCTION_DATE: 2001 9 22
RASTER_ORDER: LEFT_RIGHT/TOP_BOTTOM
BAND_ORGANIZATION: SINGLE FILE
BAND_CONTENT: BLACK&WHITE
BAND_CONTENT: UNDEFINED
BAND_CONTENT: UNDEFINED
BITS_PER_PIXEL: 8
SAMPLES_AND_LINES: 5312 7577
HORIZONTAL_DATUM: NAD83
HORIZONTAL_COORDINATE_SYSTEM: UTM
COORDINATE_ZONE: 13
HORIZONTAL_UNITS: meters
HORIZONTAL_RESOLUTION: 1.00000
SECONDARY_HORIZONTAL_DATUM: NAD27
XY_ORIGIN: 518192.00000 5351389.00000
SECONDARY_XY_ORIGIN: 518231.14300 5351167.78700
NATION: US
STATE: MT
NW_QUAD_CORNER_XY: 518535.96500 5351064.45000
NE_QUAD_CORNER_XY: 523169.95200 5351081.43700
SE_QUAD_CORNERY_XY: 523198.23400 5344134.49200
SW_QUAD_CORNER_XY: 518558.59100 5344117.50000
SECONDARY_NW_QUAD_XY: 518536.55200 5350845.50600
SECONDARY_NE_QUAD_XY: 523170.68600 5350862.49400
SECONDARY_SE_QUAD_XY: 523198.96800 5343915.56000
SECONDARY_SW_QUAD_XY: 518559.17800 5343898.56800
RMSE_XY: 2.46000
IMAGE_SOURCE: BLACK AND WHITE FILM
SOURCE_IMAGE_ID: NAPP 9080-155
SOURCE_IMAGE_DATE: 1996 6 12
SOURCE_DEM_DATE: 1998 0 0
AGENCY: WESTERN MAPPING CENTER (WMC)
PRODUCER: WOOLPERT LLP
PRODUCTION_SYSTEM: INTERGRAPH ISPM, ISIR
COMPRESSION: UNDEFINED
STANDARD_VERSION: 1996 12
METADATA_DATE: 2001 9 22
DATA_FILE_SIZE: 40254336
BYTE_COUNT: 5312
