FILENAME: O4810439.SES.1163541.tif
QUADRANGLE_NAME: SUNNYHILL SCHOOL
QUADRANT: SE
WEST_LONGITUDE: -104 11 15.00000
EAST_LONGITUDE: -104 7 30.00000
NORTH_LATITUDE: 48 26 15.00000
SOUTH_LATITUDE: 48 22 30.00000
PRODUCTION_DATE: 2001 10 7
RASTER_ORDER: LEFT_RIGHT/TOP_BOTTOM
BAND_ORGANIZATION: SINGLE FILE
BAND_CONTENT: BLACK&WHITE
BAND_CONTENT: UNDEFINED
BAND_CONTENT: UNDEFINED
BITS_PER_PIXEL: 8
SAMPLES_AND_LINES: 5350 7611
HORIZONTAL_DATUM: NAD83
HORIZONTAL_COORDINATE_SYSTEM: UTM
COORDINATE_ZONE: 13
HORIZONTAL_UNITS: meters
HORIZONTAL_RESOLUTION: 1.00000
SECONDARY_HORIZONTAL_DATUM: NAD27
XY_ORIGIN: 559752.00000 5365606.00000
SECONDARY_XY_ORIGIN: 559790.69400 5365384.72300
NATION: US
STATE: MT
NW_QUAD_CORNER_XY: 560094.38900 5365247.21900
NE_QUAD_CORNER_XY: 564716.99300 5365298.15700
SE_QUAD_CORNERY_XY: 564796.34200 5358351.14400
SW_QUAD_CORNER_XY: 560168.07000 5358300.19200
SECONDARY_NW_QUAD_XY: 560096.29700 5365028.26500
SECONDARY_NE_QUAD_XY: 564719.04800 5365079.20500
SECONDARY_SE_QUAD_XY: 564798.39700 5358132.20100
SECONDARY_SW_QUAD_XY: 560169.97800 5358081.24800
RMSE_XY: 2.31000
IMAGE_SOURCE: BLACK AND WHITE FILM
SOURCE_IMAGE_ID: NAPP 10766-141
SOURCE_IMAGE_DATE: 1998 7 10
SOURCE_DEM_DATE: 1998 0 0
AGENCY: WESTERN MAPPING CENTER (WMC)
PRODUCER: WOOLPERT LLP
PRODUCTION_SYSTEM: INTERGRAPH ISPM, ISIR
COMPRESSION: UNDEFINED
STANDARD_VERSION: 1996 12
METADATA_DATE: 2001 10 7
DATA_FILE_SIZE: 40724200
BYTE_COUNT: 5350
