FILENAME: O4810437.SWS.1163518.tif
QUADRANGLE_NAME: MEDICINE LAKE
QUADRANT: SW
WEST_LONGITUDE: -104 30 0.00000
EAST_LONGITUDE: -104 26 15.00000
NORTH_LATITUDE: 48 26 15.00000
SOUTH_LATITUDE: 48 22 30.00000
PRODUCTION_DATE: 2001 10 7
RASTER_ORDER: LEFT_RIGHT/TOP_BOTTOM
BAND_ORGANIZATION: SINGLE FILE
BAND_CONTENT: BLACK&WHITE
BAND_CONTENT: UNDEFINED
BAND_CONTENT: UNDEFINED
BITS_PER_PIXEL: 8
SAMPLES_AND_LINES: 5322 7592
HORIZONTAL_DATUM: NAD83
HORIZONTAL_COORDINATE_SYSTEM: UTM
COORDINATE_ZONE: 13
HORIZONTAL_UNITS: meters
HORIZONTAL_RESOLUTION: 1.00000
SECONDARY_HORIZONTAL_DATUM: NAD27
XY_ORIGIN: 536638.00000 5365389.00000
SECONDARY_XY_ORIGIN: 536676.93400 5365167.61500
NATION: US
STATE: MT
NW_QUAD_CORNER_XY: 536981.25400 5365049.12900
NE_QUAD_CORNER_XY: 541603.89400 5365081.20000
SE_QUAD_CORNERY_XY: 541654.90200 5358134.13100
SW_QUAD_CORNER_XY: 537026.59400 5358102.05100
SECONDARY_NW_QUAD_XY: 536982.42800 5364830.16900
SECONDARY_NE_QUAD_XY: 541605.21500 5364862.24100
SECONDARY_SE_QUAD_XY: 541656.22300 5357915.18100
SECONDARY_SW_QUAD_XY: 537027.76800 5357883.10100
RMSE_XY: 3.51000
IMAGE_SOURCE: BLACK AND WHITE FILM
SOURCE_IMAGE_ID: NAPP 9083-029
SOURCE_IMAGE_DATE: 1996 6 12
SOURCE_DEM_DATE: 1997 7 1
AGENCY: WESTERN MAPPING CENTER (WMC)
PRODUCER: WOOLPERT LLP
PRODUCTION_SYSTEM: INTERGRAPH ISPM, ISIR
COMPRESSION: UNDEFINED
STANDARD_VERSION: 1996 12
METADATA_DATE: 2001 10 7
DATA_FILE_SIZE: 40409946
BYTE_COUNT: 5322
