FILENAME: O4810432.NWS.1163547.tif
QUADRANGLE_NAME: BRUSH LAKE
QUADRANT: NW
WEST_LONGITUDE: -104 7 30.00000
EAST_LONGITUDE: -104 3 45.00000
NORTH_LATITUDE: 48 37 30.00000
SOUTH_LATITUDE: 48 33 45.00000
PRODUCTION_DATE: 2001 10 7
RASTER_ORDER: LEFT_RIGHT/TOP_BOTTOM
BAND_ORGANIZATION: SINGLE FILE
BAND_CONTENT: BLACK&WHITE
BAND_CONTENT: UNDEFINED
BAND_CONTENT: UNDEFINED
BITS_PER_PIXEL: 8
SAMPLES_AND_LINES: 5338 7615
HORIZONTAL_DATUM: NAD83
HORIZONTAL_COORDINATE_SYSTEM: UTM
COORDINATE_ZONE: 13
HORIZONTAL_UNITS: meters
HORIZONTAL_RESOLUTION: 1.00000
SECONDARY_HORIZONTAL_DATUM: NAD27
XY_ORIGIN: 564137.00000 5386502.00000
SECONDARY_XY_ORIGIN: 564175.50500 5386280.49600
NATION: US
STATE: MT
NW_QUAD_CORNER_XY: 564478.47900 5386139.64300
NE_QUAD_CORNER_XY: 569084.03500 5386194.31100
SE_QUAD_CORNERY_XY: 569169.30300 5379247.09000
SW_QUAD_CORNER_XY: 564558.06100 5379192.40700
SECONDARY_NW_QUAD_XY: 564480.53500 5385920.66800
SECONDARY_NE_QUAD_XY: 569086.23700 5385975.33800
SECONDARY_SE_QUAD_XY: 569171.50500 5379028.12400
SECONDARY_SW_QUAD_XY: 564560.11600 5378973.43900
RMSE_XY: 4.22000
IMAGE_SOURCE: BLACK AND WHITE FILM
SOURCE_IMAGE_ID: NAPP 8631-016
SOURCE_IMAGE_DATE: 1995 7 28
SOURCE_DEM_DATE: 1996 2 1
AGENCY: WESTERN MAPPING CENTER (WMC)
PRODUCER: WOOLPERT LLP
PRODUCTION_SYSTEM: INTERGRAPH ISPM, ISIR
COMPRESSION: UNDEFINED
STANDARD_VERSION: 1996 12
METADATA_DATE: 2001 10 7
DATA_FILE_SIZE: 40654208
BYTE_COUNT: 5338
