FILENAME: O4810431.NWS.1163536.tif
QUADRANGLE_NAME: DAGMAR
QUADRANT: NW
WEST_LONGITUDE: -104 15 0.00000
EAST_LONGITUDE: -104 11 15.00000
NORTH_LATITUDE: 48 37 30.00000
SOUTH_LATITUDE: 48 33 45.00000
PRODUCTION_DATE: 2001 10 7
RASTER_ORDER: LEFT_RIGHT/TOP_BOTTOM
BAND_ORGANIZATION: SINGLE FILE
BAND_CONTENT: BLACK&WHITE
BAND_CONTENT: UNDEFINED
BAND_CONTENT: UNDEFINED
BITS_PER_PIXEL: 8
SAMPLES_AND_LINES: 5327 7608
HORIZONTAL_DATUM: NAD83
HORIZONTAL_COORDINATE_SYSTEM: UTM
COORDINATE_ZONE: 13
HORIZONTAL_UNITS: meters
HORIZONTAL_RESOLUTION: 1.00000
SECONDARY_HORIZONTAL_DATUM: NAD27
XY_ORIGIN: 554925.00000 5386397.00000
SECONDARY_XY_ORIGIN: 554963.58400 5386175.49400
NATION: US
STATE: MT
NW_QUAD_CORNER_XY: 555267.33900 5386041.61800
NE_QUAD_CORNER_XY: 559872.91400 5386088.74500
SE_QUAD_CORNERY_XY: 559946.81100 5379141.49500
SW_QUAD_CORNER_XY: 555335.55100 5379094.35600
SECONDARY_NW_QUAD_XY: 555269.10100 5385822.64000
SECONDARY_NE_QUAD_XY: 559874.82200 5385869.76800
SECONDARY_SE_QUAD_XY: 559948.71900 5378922.52500
SECONDARY_SW_QUAD_XY: 555337.31300 5378875.38400
RMSE_XY: 3.94000
IMAGE_SOURCE: BLACK AND WHITE FILM
SOURCE_IMAGE_ID: NAPP 9123-180
SOURCE_IMAGE_DATE: 1997 8 3
SOURCE_DEM_DATE: 1998 0 0
AGENCY: WESTERN MAPPING CENTER (WMC)
PRODUCER: WOOLPERT LLP
PRODUCTION_SYSTEM: INTERGRAPH ISPM, ISIR
COMPRESSION: UNDEFINED
STANDARD_VERSION: 1996 12
METADATA_DATE: 2001 10 7
DATA_FILE_SIZE: 40533143
BYTE_COUNT: 5327
