FILENAME: O4810426.SES.1163080.tif
QUADRANGLE_NAME: THORNWOOD RANCH
QUADRANT: SE
WEST_LONGITUDE: -104 48 45.00000
EAST_LONGITUDE: -104 45 0.00000
NORTH_LATITUDE: 48 33 45.00000
SOUTH_LATITUDE: 48 30 0.00000
PRODUCTION_DATE: 2001 9 22
RASTER_ORDER: LEFT_RIGHT/TOP_BOTTOM
BAND_ORGANIZATION: SINGLE FILE
BAND_CONTENT: BLACK&WHITE
BAND_CONTENT: UNDEFINED
BAND_CONTENT: UNDEFINED
BITS_PER_PIXEL: 8
SAMPLES_AND_LINES: 5283 7574
HORIZONTAL_DATUM: NAD83
HORIZONTAL_COORDINATE_SYSTEM: UTM
COORDINATE_ZONE: 13
HORIZONTAL_UNITS: meters
HORIZONTAL_RESOLUTION: 1.00000
SECONDARY_HORIZONTAL_DATUM: NAD27
XY_ORIGIN: 513490.00000 5379161.00000
SECONDARY_XY_ORIGIN: 513528.98000 5378939.39400
NATION: US
STATE: MT
NW_QUAD_CORNER_XY: 513833.93300 5378839.80700
NE_QUAD_CORNER_XY: 518445.24100 5378853.00500
SE_QUAD_CORNERY_XY: 518467.95500 5371905.75300
SW_QUAD_CORNER_XY: 513850.96900 5371892.55100
SECONDARY_NW_QUAD_XY: 513834.37400 5378620.82700
SECONDARY_NE_QUAD_XY: 518445.82800 5378634.02600
SECONDARY_SE_QUAD_XY: 518468.54300 5371686.78100
SECONDARY_SW_QUAD_XY: 513851.40900 5371673.57900
RMSE_XY: 3.10000
IMAGE_SOURCE: BLACK AND WHITE FILM
SOURCE_IMAGE_ID: NAPP 9081-070
SOURCE_IMAGE_DATE: 1996 6 12
SOURCE_DEM_DATE: 1998 0 0
AGENCY: WESTERN MAPPING CENTER (WMC)
PRODUCER: WOOLPERT LLP
PRODUCTION_SYSTEM: INTERGRAPH ISPM, ISIR
COMPRESSION: UNDEFINED
STANDARD_VERSION: 1996 12
METADATA_DATE: 2001 9 23
DATA_FILE_SIZE: 40018725
BYTE_COUNT: 5283
