FILENAME: O4810411.NWS.1163047.tif
QUADRANGLE_NAME: PLENTYWOOD SW
QUADRANT: NW
WEST_LONGITUDE: -104 45 0.00000
EAST_LONGITUDE: -104 41 15.00000
NORTH_LATITUDE: 48 52 30.00000
SOUTH_LATITUDE: 48 48 45.00000
PRODUCTION_DATE: 2001 9 22
RASTER_ORDER: LEFT_RIGHT/TOP_BOTTOM
BAND_ORGANIZATION: SINGLE FILE
BAND_CONTENT: BLACK&WHITE
BAND_CONTENT: UNDEFINED
BAND_CONTENT: UNDEFINED
BITS_PER_PIXEL: 8
SAMPLES_AND_LINES: 5260 7579
HORIZONTAL_DATUM: NAD83
HORIZONTAL_COORDINATE_SYSTEM: UTM
COORDINATE_ZONE: 13
HORIZONTAL_UNITS: meters
HORIZONTAL_RESOLUTION: 1.00000
SECONDARY_HORIZONTAL_DATUM: NAD27
XY_ORIGIN: 517988.00000 5413916.00000
SECONDARY_XY_ORIGIN: 518026.82800 5413694.01400
NATION: US
STATE: MT
NW_QUAD_CORNER_XY: 518331.33800 5413590.40100
NE_QUAD_CORNER_XY: 522914.16800 5413607.34700
SE_QUAD_CORNERY_XY: 522942.69800 5406659.72200
SW_QUAD_CORNER_XY: 518354.16300 5406642.77100
SECONDARY_NW_QUAD_XY: 518331.92600 5413371.39600
SECONDARY_NE_QUAD_XY: 522914.90200 5413388.34300
SECONDARY_SE_QUAD_XY: 522943.43300 5406440.72100
SECONDARY_SW_QUAD_XY: 518354.75000 5406423.76900
RMSE_XY: 3.14000
IMAGE_SOURCE: BLACK AND WHITE FILM
SOURCE_IMAGE_ID: NAPP 9080-137
SOURCE_IMAGE_DATE: 1996 6 12
SOURCE_DEM_DATE: 1998 0 0
AGENCY: WESTERN MAPPING CENTER (WMC)
PRODUCER: WOOLPERT LLP
PRODUCTION_SYSTEM: INTERGRAPH ISPM, ISIR
COMPRESSION: UNDEFINED
STANDARD_VERSION: 1996 12
METADATA_DATE: 2001 9 22
DATA_FILE_SIZE: 39870800
BYTE_COUNT: 5260
