FILENAME: O4810411.SES.1163048.tif
QUADRANGLE_NAME: PLENTYWOOD SW
QUADRANT: SE
WEST_LONGITUDE: -104 41 15.00000
EAST_LONGITUDE: -104 37 30.00000
NORTH_LATITUDE: 48 48 45.00000
SOUTH_LATITUDE: 48 45 0.00000
PRODUCTION_DATE: 2001 9 22
RASTER_ORDER: LEFT_RIGHT/TOP_BOTTOM
BAND_ORGANIZATION: SINGLE FILE
BAND_CONTENT: BLACK&WHITE
BAND_CONTENT: UNDEFINED
BAND_CONTENT: UNDEFINED
BITS_PER_PIXEL: 8
SAMPLES_AND_LINES: 5272 7582
HORIZONTAL_DATUM: NAD83
HORIZONTAL_COORDINATE_SYSTEM: UTM
COORDINATE_ZONE: 13
HORIZONTAL_UNITS: meters
HORIZONTAL_RESOLUTION: 1.00000
SECONDARY_HORIZONTAL_DATUM: NAD27
XY_ORIGIN: 522599.00000 5406989.00000
SECONDARY_XY_ORIGIN: 522637.80000 5406767.07500
NATION: US
STATE: MT
NW_QUAD_CORNER_XY: 522942.69800 5406659.72200
NE_QUAD_CORNER_XY: 527531.23000 5406680.43900
SE_QUAD_CORNERY_XY: 527565.43400 5399732.89500
SW_QUAD_CORNER_XY: 522971.20200 5399712.17200
SECONDARY_NW_QUAD_XY: 522943.43300 5406440.72100
SECONDARY_NE_QUAD_XY: 527532.11100 5406461.43900
SECONDARY_SE_QUAD_XY: 527566.31500 5399513.89900
SECONDARY_SW_QUAD_XY: 522971.93600 5399493.17500
RMSE_XY: 3.39000
IMAGE_SOURCE: BLACK AND WHITE FILM
SOURCE_IMAGE_ID: NAPP 9080-122
SOURCE_IMAGE_DATE: 1996 6 12
SOURCE_DEM_DATE: 1998 0 0
AGENCY: WESTERN MAPPING CENTER (WMC)
PRODUCER: WOOLPERT LLP
PRODUCTION_SYSTEM: INTERGRAPH ISPM, ISIR
COMPRESSION: UNDEFINED
STANDARD_VERSION: 1996 12
METADATA_DATE: 2001 9 22
DATA_FILE_SIZE: 39977576
BYTE_COUNT: 5272
