FILENAME: O4810404.SWS.1163057.tif
QUADRANGLE_NAME: RAYMOND
QUADRANT: SW
WEST_LONGITUDE: -104 37 30.00000
EAST_LONGITUDE: -104 33 45.00000
NORTH_LATITUDE: 48 56 15.00000
SOUTH_LATITUDE: 48 52 30.00000
PRODUCTION_DATE: 2001 9 22
RASTER_ORDER: LEFT_RIGHT/TOP_BOTTOM
BAND_ORGANIZATION: SINGLE FILE
BAND_CONTENT: BLACK&WHITE
BAND_CONTENT: UNDEFINED
BAND_CONTENT: UNDEFINED
BITS_PER_PIXEL: 8
SAMPLES_AND_LINES: 5266 7586
HORIZONTAL_DATUM: NAD83
HORIZONTAL_COORDINATE_SYSTEM: UTM
COORDINATE_ZONE: 13
HORIZONTAL_UNITS: meters
HORIZONTAL_RESOLUTION: 1.00000
SECONDARY_HORIZONTAL_DATUM: NAD27
XY_ORIGIN: 527119.00000 5420909.00000
SECONDARY_XY_ORIGIN: 527157.73700 5420687.00800
NATION: US
STATE: MT
NW_QUAD_CORNER_XY: 527462.72300 5420575.75400
NE_QUAD_CORNER_XY: 532039.83200 5420600.22400
SE_QUAD_CORNERY_XY: 532079.81400 5413652.53600
SW_QUAD_CORNER_XY: 527496.99300 5413628.05900
SECONDARY_NW_QUAD_XY: 527463.60400 5420356.74700
SECONDARY_NE_QUAD_XY: 532040.86000 5420381.21800
SECONDARY_SE_QUAD_XY: 532080.84200 5413433.53300
SECONDARY_SW_QUAD_XY: 527497.87400 5413409.05500
RMSE_XY: 3.91000
IMAGE_SOURCE: BLACK AND WHITE FILM
SOURCE_IMAGE_ID: NAPP 9082-009
SOURCE_IMAGE_DATE: 1996 6 12
SOURCE_DEM_DATE: 1998 0 0
AGENCY: WESTERN MAPPING CENTER (WMC)
PRODUCER: WOOLPERT LLP
PRODUCTION_SYSTEM: INTERGRAPH ISPM, ISIR
COMPRESSION: UNDEFINED
STANDARD_VERSION: 1996 12
METADATA_DATE: 2001 10 1
DATA_FILE_SIZE: 39953142
BYTE_COUNT: 5266
