FILENAME: O4810563.NES.1139311.tif
QUADRANGLE_NAME: POPLAR
QUADRANT: NE
WEST_LONGITUDE: -105 11 15.00000
EAST_LONGITUDE: -105 7 30.00000
NORTH_LATITUDE: 48 7 30.00000
SOUTH_LATITUDE: 48 3 45.00000
PRODUCTION_DATE: 2001 3 16
RASTER_ORDER: LEFT_RIGHT/TOP_BOTTOM
BAND_ORGANIZATION: SINGLE FILE
BAND_CONTENT: BLACK&WHITE
BAND_CONTENT: UNDEFINED
BAND_CONTENT: UNDEFINED
BITS_PER_PIXEL: 8
SAMPLES_AND_LINES: 5319 7569
HORIZONTAL_DATUM: NAD83
HORIZONTAL_COORDINATE_SYSTEM: UTM
COORDINATE_ZONE: 13
HORIZONTAL_UNITS: meters
HORIZONTAL_RESOLUTION: 1.00000
SECONDARY_HORIZONTAL_DATUM: NAD27
XY_ORIGIN: 485685.00000 5330518.00000
SECONDARY_XY_ORIGIN: 485724.49900 5330296.91500
NATION: US
STATE: MT
NW_QUAD_CORNER_XY: 486047.16700 5330210.60700
NE_QUAD_CORNER_XY: 490698.11000 5330201.16200
SE_QUAD_CORNERY_XY: 490686.83100 5323254.43500
SW_QUAD_CORNER_XY: 486030.24800 5323263.88100
SECONDARY_NW_QUAD_XY: 486046.72700 5329991.69800
SECONDARY_NE_QUAD_XY: 490697.81700 5329982.25400
SECONDARY_SE_QUAD_XY: 490686.53700 5323035.54000
SECONDARY_SW_QUAD_XY: 486029.80800 5323044.98700
RMSE_XY: 1.65000
IMAGE_SOURCE: BLACK AND WHITE FILM
SOURCE_IMAGE_ID: NAPP 9103-203
SOURCE_IMAGE_DATE: 1996 7 15
SOURCE_IMAGE_ID: NAPP 9103-204
SOURCE_IMAGE_DATE: 1996 7 15
SOURCE_DEM_DATE: 1998 0 0
AGENCY: WESTERN MAPPING CENTER (WMC)
PRODUCER: WOOLPERT LLP
PRODUCTION_SYSTEM: INTERGRAPH ISPM, ISIR
COMPRESSION: UNDEFINED
STANDARD_VERSION: 1996 12
METADATA_DATE: 2001 4 27
DATA_FILE_SIZE: 40264830
BYTE_COUNT: 5319
