FILENAME: O4810562.SES.1139301.tif
QUADRANGLE_NAME: NICKWALL
QUADRANT: SE
WEST_LONGITUDE: -105 18 45.00000
EAST_LONGITUDE: -105 15 0.00000
NORTH_LATITUDE: 48 3 45.00000
SOUTH_LATITUDE: 48 0 0.00000
PRODUCTION_DATE: 2001 4 4
RASTER_ORDER: LEFT_RIGHT/TOP_BOTTOM
BAND_ORGANIZATION: SINGLE FILE
BAND_CONTENT: BLACK&WHITE
BAND_CONTENT: UNDEFINED
BAND_CONTENT: UNDEFINED
BITS_PER_PIXEL: 8
SAMPLES_AND_LINES: 5336 7577
HORIZONTAL_DATUM: NAD83
HORIZONTAL_COORDINATE_SYSTEM: UTM
COORDINATE_ZONE: 13
HORIZONTAL_UNITS: meters
HORIZONTAL_RESOLUTION: 1.00000
SECONDARY_HORIZONTAL_DATUM: NAD27
XY_ORIGIN: 476343.00000 5323602.00000
SECONDARY_XY_ORIGIN: 476382.64300 5323380.96000
NATION: US
STATE: MT
NW_QUAD_CORNER_XY: 476717.08800 5323294.11000
NE_QUAD_CORNER_XY: 481373.66700 5323277.10600
SE_QUAD_CORNERY_XY: 481351.13000 5316330.46000
SW_QUAD_CORNER_XY: 476688.91700 5316347.46700
SECONDARY_NW_QUAD_XY: 476716.35400 5323075.21600
SECONDARY_NE_QUAD_XY: 481373.08000 5323058.21200
SECONDARY_SE_QUAD_XY: 481350.54300 5316111.58000
SECONDARY_SW_QUAD_XY: 476688.18400 5316128.58800
RMSE_XY: 2.62000
IMAGE_SOURCE: BLACK AND WHITE FILM
SOURCE_IMAGE_ID: NAPP 9113-057
SOURCE_IMAGE_DATE: 1996 8 16
SOURCE_IMAGE_ID: NAPP 9113-056
SOURCE_IMAGE_DATE: 1996 8 16
SOURCE_IMAGE_ID: NAPP 10725-030
SOURCE_IMAGE_DATE: 1997 9 2
SOURCE_DEM_DATE: 1998 0 0
AGENCY: WESTERN MAPPING CENTER (WMC)
PRODUCER: WOOLPERT LLP
PRODUCTION_SYSTEM: INTERGRAPH ISPM, ISIR
COMPRESSION: UNDEFINED
STANDARD_VERSION: 1996 12
METADATA_DATE: 2001 4 27
DATA_FILE_SIZE: 40436208
BYTE_COUNT: 5336
