FILENAME: O4810561.NWS.1139288.tif
QUADRANGLE_NAME: CHELSEA SW
QUADRANT: NW
WEST_LONGITUDE: -105 30 0.00000
EAST_LONGITUDE: -105 26 15.00000
NORTH_LATITUDE: 48 7 30.00000
SOUTH_LATITUDE: 48 3 45.00000
PRODUCTION_DATE: 2001 4 6
RASTER_ORDER: LEFT_RIGHT/TOP_BOTTOM
BAND_ORGANIZATION: SINGLE FILE
BAND_CONTENT: BLACK&WHITE
BAND_CONTENT: UNDEFINED
BAND_CONTENT: UNDEFINED
BITS_PER_PIXEL: 8
SAMPLES_AND_LINES: 5348 7588
HORIZONTAL_DATUM: NAD83
HORIZONTAL_COORDINATE_SYSTEM: UTM
COORDINATE_ZONE: 13
HORIZONTAL_UNITS: meters
HORIZONTAL_RESOLUTION: 1.00000
SECONDARY_HORIZONTAL_DATUM: NAD27
XY_ORIGIN: 462401.00000 5330622.00000
SECONDARY_XY_ORIGIN: 462440.80000 5330400.78800
NATION: US
STATE: MT
NW_QUAD_CORNER_XY: 462792.48800 5330314.49400
NE_QUAD_CORNER_XY: 467443.41700 5330286.16100
SE_QUAD_CORNERY_XY: 467403.93900 5323339.45300
SW_QUAD_CORNER_XY: 462747.37000 5323367.79200
SECONDARY_NW_QUAD_XY: 462791.31400 5330095.58900
SECONDARY_NE_QUAD_XY: 467442.39000 5330067.25500
SECONDARY_SE_QUAD_XY: 467402.91200 5323120.56100
SECONDARY_SW_QUAD_XY: 462746.19700 5323148.90100
RMSE_XY: 2.24000
IMAGE_SOURCE: BLACK AND WHITE FILM
SOURCE_IMAGE_ID: NAPP 9093-159
SOURCE_IMAGE_DATE: 1996 7 9
SOURCE_IMAGE_ID: NAPP 9093-160
SOURCE_IMAGE_DATE: 1996 7 9
SOURCE_IMAGE_ID: NAPP 9093-097
SOURCE_IMAGE_DATE: 1996 7 9
SOURCE_DEM_DATE: 1998 0 0
AGENCY: WESTERN MAPPING CENTER (WMC)
PRODUCER: WOOLPERT LLP
PRODUCTION_SYSTEM: INTERGRAPH ISPM, ISIR
COMPRESSION: UNDEFINED
STANDARD_VERSION: 1996 12
METADATA_DATE: 2001 4 26
DATA_FILE_SIZE: 40585972
BYTE_COUNT: 5348
