FILENAME: O4810561.SES.1139289.tif
QUADRANGLE_NAME: CHELSEA SW
QUADRANT: SE
WEST_LONGITUDE: -105 26 15.00000
EAST_LONGITUDE: -105 22 30.00000
NORTH_LATITUDE: 48 3 45.00000
SOUTH_LATITUDE: 48 0 0.00000
PRODUCTION_DATE: 2001 4 6
RASTER_ORDER: LEFT_RIGHT/TOP_BOTTOM
BAND_ORGANIZATION: SINGLE FILE
BAND_CONTENT: BLACK&WHITE
BAND_CONTENT: UNDEFINED
BAND_CONTENT: UNDEFINED
BITS_PER_PIXEL: 8
SAMPLES_AND_LINES: 5348 7584
HORIZONTAL_DATUM: NAD83
HORIZONTAL_COORDINATE_SYSTEM: UTM
COORDINATE_ZONE: 13
HORIZONTAL_UNITS: meters
HORIZONTAL_RESOLUTION: 1.00000
SECONDARY_HORIZONTAL_DATUM: NAD27
XY_ORIGIN: 467018.00000 5323647.00000
SECONDARY_XY_ORIGIN: 467057.77400 5323425.92600
NATION: US
STATE: MT
NW_QUAD_CORNER_XY: 467403.93900 5323339.45300
NE_QUAD_CORNER_XY: 472060.51100 5323314.89200
SE_QUAD_CORNERY_XY: 472026.70700 5316368.25400
SW_QUAD_CORNER_XY: 467364.50000 5316392.82100
SECONDARY_NW_QUAD_XY: 467402.91200 5323120.56100
SECONDARY_NE_QUAD_XY: 472059.63100 5323095.99900
SECONDARY_SE_QUAD_XY: 472025.82700 5316149.37600
SECONDARY_SW_QUAD_XY: 467363.47300 5316173.94300
RMSE_XY: 2.51000
IMAGE_SOURCE: BLACK AND WHITE FILM
SOURCE_IMAGE_ID: NAPP 9093-096
SOURCE_IMAGE_DATE: 1996 7 9
SOURCE_IMAGE_ID: NAPP 9093-097
SOURCE_IMAGE_DATE: 1996 7 9
SOURCE_DEM_DATE: 1998 0 0
AGENCY: WESTERN MAPPING CENTER (WMC)
PRODUCER: WOOLPERT LLP
PRODUCTION_SYSTEM: INTERGRAPH ISPM, ISIR
COMPRESSION: UNDEFINED
STANDARD_VERSION: 1996 12
METADATA_DATE: 2001 4 26
DATA_FILE_SIZE: 40564580
BYTE_COUNT: 5348
