FILENAME: O4810557.SWS.1139242.tif
QUADRANGLE_NAME: OSWEGO
QUADRANT: SW
WEST_LONGITUDE: -106 0 0.00000
EAST_LONGITUDE: -105 56 15.00000
NORTH_LATITUDE: 48 3 45.00000
SOUTH_LATITUDE: 48 0 0.00000
PRODUCTION_DATE: 2001 4 4
RASTER_ORDER: LEFT_RIGHT/TOP_BOTTOM
BAND_ORGANIZATION: SINGLE FILE
BAND_CONTENT: BLACK&WHITE
BAND_CONTENT: UNDEFINED
BAND_CONTENT: UNDEFINED
BITS_PER_PIXEL: 8
SAMPLES_AND_LINES: 5400 7619
HORIZONTAL_DATUM: NAD83
HORIZONTAL_COORDINATE_SYSTEM: UTM
COORDINATE_ZONE: 13
HORIZONTAL_UNITS: meters
HORIZONTAL_RESOLUTION: 1.00000
SECONDARY_HORIZONTAL_DATUM: NAD27
XY_ORIGIN: 425057.00000 5324039.00000
SECONDARY_XY_ORIGIN: 425097.25100 5323817.57900
NATION: US
STATE: MT
NW_QUAD_CORNER_XY: 425495.04000 5323730.55200
NE_QUAD_CORNER_XY: 430151.55500 5323671.98000
SE_QUAD_CORNERY_XY: 430067.03800 5316725.42400
SW_QUAD_CORNER_XY: 425404.88800 5316784.00900
SECONDARY_NW_QUAD_XY: 425492.69200 5323511.67200
SECONDARY_NE_QUAD_XY: 430149.35400 5323453.09800
SECONDARY_SE_QUAD_XY: 430064.83700 5316506.55600
SECONDARY_SW_QUAD_XY: 425402.54000 5316565.14400
RMSE_XY: 1.88000
IMAGE_SOURCE: BLACK AND WHITE FILM
SOURCE_IMAGE_ID: NAPP 9088-155
SOURCE_IMAGE_DATE: 1996 7 7
SOURCE_DEM_DATE: 1998 0 0
AGENCY: WESTERN MAPPING CENTER (WMC)
PRODUCER: WOOLPERT LLP
PRODUCTION_SYSTEM: INTERGRAPH ISPM, ISIR
COMPRESSION: UNDEFINED
STANDARD_VERSION: 1996 12
METADATA_DATE: 2001 4 4
DATA_FILE_SIZE: 41148000
BYTE_COUNT: 5400
