FILENAME: O4810556.SES.1133004.tif
QUADRANGLE_NAME: POPLAR NE
QUADRANT: SE
WEST_LONGITUDE: -105 3 45.00000
EAST_LONGITUDE: -105 0 0.00000
NORTH_LATITUDE: 48 11 15.00000
SOUTH_LATITUDE: 48 7 30.00000
PRODUCTION_DATE: 2001 3 14
RASTER_ORDER: LEFT_RIGHT/TOP_BOTTOM
BAND_ORGANIZATION: SINGLE FILE
BAND_CONTENT: BLACK&WHITE
BAND_CONTENT: UNDEFINED
BAND_CONTENT: UNDEFINED
BITS_PER_PIXEL: 8
SAMPLES_AND_LINES: 5301 7562
HORIZONTAL_DATUM: NAD83
HORIZONTAL_COORDINATE_SYSTEM: UTM
COORDINATE_ZONE: 13
HORIZONTAL_UNITS: meters
HORIZONTAL_RESOLUTION: 1.00000
SECONDARY_HORIZONTAL_DATUM: NAD27
XY_ORIGIN: 495004.00000 5337450.00000
SECONDARY_XY_ORIGIN: 495043.39600 5337228.86800
NATION: US
STATE: MT
NW_QUAD_CORNER_XY: 495354.70000 5337142.30100
NE_QUAD_CORNER_XY: 500000.00000 5337140.41200
SE_QUAD_CORNERY_XY: 500000.00000 5330193.60700
SW_QUAD_CORNER_XY: 495349.05500 5330195.49600
SECONDARY_NW_QUAD_XY: 495354.55300 5336923.37900
SECONDARY_NE_QUAD_XY: 500000.00000 5336921.49100
SECONDARY_SE_QUAD_XY: 500000.00000 5329974.69800
SECONDARY_SW_QUAD_XY: 495348.90800 5329976.58700
RMSE_XY: 1.57000
IMAGE_SOURCE: BLACK AND WHITE FILM
SOURCE_IMAGE_ID: NAPP 9096-168
SOURCE_IMAGE_DATE: 1996 7 9
SOURCE_DEM_DATE: 1998 0 0
AGENCY: WESTERN MAPPING CENTER (WMC)
PRODUCER: WOOLPERT LLP
PRODUCTION_SYSTEM: INTERGRAPH ISPM, ISIR
COMPRESSION: UNDEFINED
STANDARD_VERSION: 1996 12
METADATA_DATE: 2001 3 15
DATA_FILE_SIZE: 40091463
BYTE_COUNT: 5301
