FILENAME: O4810555.SWS.1139310.tif
QUADRANGLE_NAME: BADGER CREEK
QUADRANT: SW
WEST_LONGITUDE: -105 15 0.00000
EAST_LONGITUDE: -105 11 15.00000
NORTH_LATITUDE: 48 11 15.00000
SOUTH_LATITUDE: 48 7 30.00000
PRODUCTION_DATE: 2001 3 30
RASTER_ORDER: LEFT_RIGHT/TOP_BOTTOM
BAND_ORGANIZATION: SINGLE FILE
BAND_CONTENT: BLACK&WHITE
BAND_CONTENT: UNDEFINED
BAND_CONTENT: UNDEFINED
BITS_PER_PIXEL: 8
SAMPLES_AND_LINES: 5319 7573
HORIZONTAL_DATUM: NAD83
HORIZONTAL_COORDINATE_SYSTEM: UTM
COORDINATE_ZONE: 13
HORIZONTAL_UNITS: meters
HORIZONTAL_RESOLUTION: 1.00000
SECONDARY_HORIZONTAL_DATUM: NAD27
XY_ORIGIN: 481051.00000 5337478.00000
SECONDARY_XY_ORIGIN: 481090.49500 5337256.84000
NATION: US
STATE: MT
NW_QUAD_CORNER_XY: 481418.80600 5337170.62600
NE_QUAD_CORNER_XY: 486064.10200 5337157.40800
SE_QUAD_CORNERY_XY: 486047.16700 5330210.60700
SW_QUAD_CORNER_XY: 481396.22500 5330223.82800
SECONDARY_NW_QUAD_XY: 481418.21900 5336951.70600
SECONDARY_NE_QUAD_XY: 486063.66200 5336938.48700
SECONDARY_SE_QUAD_XY: 486046.72700 5329991.69800
SECONDARY_SW_QUAD_XY: 481395.63800 5330004.92100
RMSE_XY: 1.55000
IMAGE_SOURCE: BLACK AND WHITE FILM
SOURCE_IMAGE_ID: NAPP 10725-034
SOURCE_IMAGE_DATE: 1997 9 2
SOURCE_IMAGE_ID: NAPP 9103-204
SOURCE_IMAGE_DATE: 1996 7 15
SOURCE_DEM_DATE: 1998 0 0
AGENCY: WESTERN MAPPING CENTER (WMC)
PRODUCER: WOOLPERT LLP
PRODUCTION_SYSTEM: INTERGRAPH ISPM, ISIR
COMPRESSION: UNDEFINED
STANDARD_VERSION: 1996 12
METADATA_DATE: 2001 4 27
DATA_FILE_SIZE: 40286106
BYTE_COUNT: 5319
