FILENAME: O4810554.SES.1139297.tif
QUADRANGLE_NAME: CHELSEA
QUADRANT: SE
WEST_LONGITUDE: -105 18 45.00000
EAST_LONGITUDE: -105 15 0.00000
NORTH_LATITUDE: 48 11 15.00000
SOUTH_LATITUDE: 48 7 30.00000
PRODUCTION_DATE: 2001 4 4
RASTER_ORDER: LEFT_RIGHT/TOP_BOTTOM
BAND_ORGANIZATION: SINGLE FILE
BAND_CONTENT: BLACK&WHITE
BAND_CONTENT: UNDEFINED
BAND_CONTENT: UNDEFINED
BITS_PER_PIXEL: 8
SAMPLES_AND_LINES: 5325 7577
HORIZONTAL_DATUM: NAD83
HORIZONTAL_COORDINATE_SYSTEM: UTM
COORDINATE_ZONE: 13
HORIZONTAL_UNITS: meters
HORIZONTAL_RESOLUTION: 1.00000
SECONDARY_HORIZONTAL_DATUM: NAD27
XY_ORIGIN: 476399.00000 5337495.00000
SECONDARY_XY_ORIGIN: 476438.56200 5337273.80300
NATION: US
STATE: MT
NW_QUAD_CORNER_XY: 476773.51200 5337187.62200
NE_QUAD_CORNER_XY: 481418.80600 5337170.62600
SE_QUAD_CORNERY_XY: 481396.22500 5330223.82800
SW_QUAD_CORNER_XY: 476745.28600 5330240.82800
SECONDARY_NW_QUAD_XY: 476772.77800 5336968.70200
SECONDARY_NE_QUAD_XY: 481418.21900 5336951.70600
SECONDARY_SE_QUAD_XY: 481395.63800 5330004.92100
SECONDARY_SW_QUAD_XY: 476744.55200 5330021.92100
RMSE_XY: 1.37000
IMAGE_SOURCE: BLACK AND WHITE FILM
SOURCE_IMAGE_ID: NAPP 9113-061
SOURCE_IMAGE_DATE: 1996 8 16
SOURCE_DEM_DATE: 1998 0 0
AGENCY: WESTERN MAPPING CENTER (WMC)
PRODUCER: WOOLPERT LLP
PRODUCTION_SYSTEM: INTERGRAPH ISPM, ISIR
COMPRESSION: UNDEFINED
STANDARD_VERSION: 1996 12
METADATA_DATE: 2001 4 4
DATA_FILE_SIZE: 40352850
BYTE_COUNT: 5325
