FILENAME: O4810553.SWS.1139286.tif
QUADRANGLE_NAME: CHELSEA NW
QUADRANT: SW
WEST_LONGITUDE: -105 30 0.00000
EAST_LONGITUDE: -105 26 15.00000
NORTH_LATITUDE: 48 11 15.00000
SOUTH_LATITUDE: 48 7 30.00000
PRODUCTION_DATE: 2001 4 6
RASTER_ORDER: LEFT_RIGHT/TOP_BOTTOM
BAND_ORGANIZATION: SINGLE FILE
BAND_CONTENT: BLACK&WHITE
BAND_CONTENT: UNDEFINED
BAND_CONTENT: UNDEFINED
BITS_PER_PIXEL: 8
SAMPLES_AND_LINES: 5342 7588
HORIZONTAL_DATUM: NAD83
HORIZONTAL_COORDINATE_SYSTEM: UTM
COORDINATE_ZONE: 13
HORIZONTAL_UNITS: meters
HORIZONTAL_RESOLUTION: 1.00000
SECONDARY_HORIZONTAL_DATUM: NAD27
XY_ORIGIN: 462446.00000 5337569.00000
SECONDARY_XY_ORIGIN: 462485.76100 5337347.66800
NATION: US
STATE: MT
NW_QUAD_CORNER_XY: 462837.65100 5337261.27000
NE_QUAD_CORNER_XY: 467482.93400 5337232.94400
SE_QUAD_CORNERY_XY: 467443.41700 5330286.16100
SW_QUAD_CORNER_XY: 462792.48800 5330314.49400
SECONDARY_NW_QUAD_XY: 462836.47700 5337042.35200
SECONDARY_NE_QUAD_XY: 467481.90700 5337014.02500
SECONDARY_SE_QUAD_XY: 467442.39000 5330067.25500
SECONDARY_SW_QUAD_XY: 462791.31400 5330095.58900
RMSE_XY: 1.72000
IMAGE_SOURCE: BLACK AND WHITE FILM
SOURCE_IMAGE_ID: NAPP 9093-157
SOURCE_IMAGE_DATE: 1996 7 9
SOURCE_DEM_DATE: 1998 0 0
AGENCY: WESTERN MAPPING CENTER (WMC)
PRODUCER: WOOLPERT LLP
PRODUCTION_SYSTEM: INTERGRAPH ISPM, ISIR
COMPRESSION: UNDEFINED
STANDARD_VERSION: 1996 12
METADATA_DATE: 2001 4 6
DATA_FILE_SIZE: 40540438
BYTE_COUNT: 5342
