FILENAME: O4810551.SES.1139261.tif
QUADRANGLE_NAME: WOLF POINT NW
QUADRANT: SE
WEST_LONGITUDE: -105 41 15.00000
EAST_LONGITUDE: -105 37 30.00000
NORTH_LATITUDE: 48 11 15.00000
SOUTH_LATITUDE: 48 7 30.00000
PRODUCTION_DATE: 2001 4 6
RASTER_ORDER: LEFT_RIGHT/TOP_BOTTOM
BAND_ORGANIZATION: SINGLE FILE
BAND_CONTENT: BLACK&WHITE
BAND_CONTENT: UNDEFINED
BAND_CONTENT: UNDEFINED
BITS_PER_PIXEL: 8
SAMPLES_AND_LINES: 5360 7600
HORIZONTAL_DATUM: NAD83
HORIZONTAL_COORDINATE_SYSTEM: UTM
COORDINATE_ZONE: 13
HORIZONTAL_UNITS: meters
HORIZONTAL_RESOLUTION: 1.00000
SECONDARY_HORIZONTAL_DATUM: NAD27
XY_ORIGIN: 448493.00000 5337677.00000
SECONDARY_XY_ORIGIN: 448532.86200 5337455.53700
NATION: US
STATE: MT
NW_QUAD_CORNER_XY: 448901.83300 5337368.91100
NE_QUAD_CORNER_XY: 453547.10000 5337329.25400
SE_QUAD_CORNERY_XY: 453490.64600 5330382.49300
SW_QUAD_CORNER_XY: 448839.73400 5330422.16000
SECONDARY_NW_QUAD_XY: 448900.21900 5337149.99700
SECONDARY_NE_QUAD_XY: 453545.63300 5337110.33800
SECONDARY_SE_QUAD_XY: 453489.17900 5330163.59100
SECONDARY_SW_QUAD_XY: 448838.12000 5330203.25900
RMSE_XY: 2.13000
IMAGE_SOURCE: BLACK AND WHITE FILM
SOURCE_IMAGE_ID: NAPP 10725-087
SOURCE_IMAGE_DATE: 1997 9 2
SOURCE_IMAGE_ID: NAPP 9105-165
SOURCE_IMAGE_DATE: 1996 8 1
SOURCE_DEM_DATE: 1998 0 0
AGENCY: WESTERN MAPPING CENTER (WMC)
PRODUCER: WOOLPERT LLP
PRODUCTION_SYSTEM: INTERGRAPH ISPM, ISIR
COMPRESSION: UNDEFINED
STANDARD_VERSION: 1996 12
METADATA_DATE: 2001 4 20
DATA_FILE_SIZE: 40741360
BYTE_COUNT: 5360
