FILENAME: O4810550.NWS.1139248.tif
QUADRANGLE_NAME: FLYNN CREEK NORTH
QUADRANT: NW
WEST_LONGITUDE: -105 52 30.00000
EAST_LONGITUDE: -105 48 45.00000
NORTH_LATITUDE: 48 15 0.00000
SOUTH_LATITUDE: 48 11 15.00000
PRODUCTION_DATE: 2001 4 4
RASTER_ORDER: LEFT_RIGHT/TOP_BOTTOM
BAND_ORGANIZATION: SINGLE FILE
BAND_CONTENT: BLACK&WHITE
BAND_CONTENT: UNDEFINED
BAND_CONTENT: UNDEFINED
BITS_PER_PIXEL: 8
SAMPLES_AND_LINES: 5371 7612
HORIZONTAL_DATUM: NAD83
HORIZONTAL_COORDINATE_SYSTEM: UTM
COORDINATE_ZONE: 13
HORIZONTAL_UNITS: meters
HORIZONTAL_RESOLUTION: 1.00000
SECONDARY_HORIZONTAL_DATUM: NAD27
XY_ORIGIN: 434619.00000 5344766.00000
SECONDARY_XY_ORIGIN: 434658.92700 5344544.27000
NATION: US
STATE: MT
NW_QUAD_CORNER_XY: 435045.19200 5344457.33900
NE_QUAD_CORNER_XY: 439684.78500 5344406.36200
SE_QUAD_CORNERY_XY: 439611.32100 5337459.55800
SW_QUAD_CORNER_XY: 434966.07600 5337510.54700
SECONDARY_NW_QUAD_XY: 435043.13700 5344238.41700
SECONDARY_NE_QUAD_XY: 439682.87700 5344187.43800
SECONDARY_SE_QUAD_XY: 439609.41300 5337240.64700
SECONDARY_SW_QUAD_XY: 434964.02100 5337291.63800
RMSE_XY: 2.32000
IMAGE_SOURCE: BLACK AND WHITE FILM
SOURCE_IMAGE_ID: NAPP 11001-018
SOURCE_IMAGE_DATE: 1998 7 15
SOURCE_DEM_DATE: 1998 0 0
AGENCY: WESTERN MAPPING CENTER (WMC)
PRODUCER: WOOLPERT LLP
PRODUCTION_SYSTEM: INTERGRAPH ISPM, ISIR
COMPRESSION: UNDEFINED
STANDARD_VERSION: 1996 12
METADATA_DATE: 2001 4 4
DATA_FILE_SIZE: 40889423
BYTE_COUNT: 5371
