FILENAME: O4810550.SES.1139249.tif
QUADRANGLE_NAME: FLYNN CREEK NORTH
QUADRANT: SE
WEST_LONGITUDE: -105 48 45.00000
EAST_LONGITUDE: -105 45 0.00000
NORTH_LATITUDE: 48 11 15.00000
SOUTH_LATITUDE: 48 7 30.00000
PRODUCTION_DATE: 2001 4 4
RASTER_ORDER: LEFT_RIGHT/TOP_BOTTOM
BAND_ORGANIZATION: SINGLE FILE
BAND_CONTENT: BLACK&WHITE
BAND_CONTENT: UNDEFINED
BAND_CONTENT: UNDEFINED
BITS_PER_PIXEL: 8
SAMPLES_AND_LINES: 5372 7608
HORIZONTAL_DATUM: NAD83
HORIZONTAL_COORDINATE_SYSTEM: UTM
COORDINATE_ZONE: 13
HORIZONTAL_UNITS: meters
HORIZONTAL_RESOLUTION: 1.00000
SECONDARY_HORIZONTAL_DATUM: NAD27
XY_ORIGIN: 439190.00000 5337768.00000
SECONDARY_XY_ORIGIN: 439229.95000 5337546.44500
NATION: US
STATE: MT
NW_QUAD_CORNER_XY: 439611.32100 5337459.55800
NE_QUAD_CORNER_XY: 444256.57300 5337412.34600
SE_QUAD_CORNERY_XY: 444188.82800 5330465.60500
SW_QUAD_CORNER_XY: 439537.92900 5330512.82900
SECONDARY_NW_QUAD_XY: 439609.41300 5337240.64700
SECONDARY_NE_QUAD_XY: 444254.81200 5337193.43300
SECONDARY_SE_QUAD_XY: 444187.06700 5330246.70500
SECONDARY_SW_QUAD_XY: 439536.02100 5330293.93000
RMSE_XY: 2.25000
IMAGE_SOURCE: BLACK AND WHITE FILM
SOURCE_IMAGE_ID: NAPP 11000-066
SOURCE_IMAGE_DATE: 1998 7 13
SOURCE_DEM_DATE: 1998 0 0
AGENCY: WESTERN MAPPING CENTER (WMC)
PRODUCER: WOOLPERT LLP
PRODUCTION_SYSTEM: INTERGRAPH ISPM, ISIR
COMPRESSION: UNDEFINED
STANDARD_VERSION: 1996 12
METADATA_DATE: 2001 4 4
DATA_FILE_SIZE: 40875548
BYTE_COUNT: 5372
