FILENAME: O4810548.NWS.1162663.tif
QUADRANGLE_NAME: GEDDART LAKE
QUADRANT: NW
WEST_LONGITUDE: -105 7 30.00000
EAST_LONGITUDE: -105 3 45.00000
NORTH_LATITUDE: 48 22 30.00000
SOUTH_LATITUDE: 48 18 45.00000
PRODUCTION_DATE: 2001 9 23
RASTER_ORDER: LEFT_RIGHT/TOP_BOTTOM
BAND_ORGANIZATION: SINGLE FILE
BAND_CONTENT: BLACK&WHITE
BAND_CONTENT: UNDEFINED
BAND_CONTENT: UNDEFINED
BITS_PER_PIXEL: 8
SAMPLES_AND_LINES: 5290 7566
HORIZONTAL_DATUM: NAD83
HORIZONTAL_COORDINATE_SYSTEM: UTM
COORDINATE_ZONE: 13
HORIZONTAL_UNITS: meters
HORIZONTAL_RESOLUTION: 1.00000
SECONDARY_HORIZONTAL_DATUM: NAD27
XY_ORIGIN: 490387.00000 5358297.00000
SECONDARY_XY_ORIGIN: 490426.30500 5358075.62000
NATION: US
STATE: MT
NW_QUAD_CORNER_XY: 490743.33900 5357988.83100
NE_QUAD_CORNER_XY: 495371.66900 5357983.17000
SE_QUAD_CORNERY_XY: 495366.00700 5351036.13800
SW_QUAD_CORNER_XY: 490732.01500 5351041.80000
SECONDARY_NW_QUAD_XY: 490743.04500 5357769.87700
SECONDARY_NE_QUAD_XY: 495371.52200 5357764.21600
SECONDARY_SE_QUAD_XY: 495365.86000 5350817.19400
SECONDARY_SW_QUAD_XY: 490731.72100 5350822.85600
RMSE_XY: 3.11000
IMAGE_SOURCE: BLACK AND WHITE FILM
SOURCE_IMAGE_ID: NAPP 9103-124
SOURCE_IMAGE_DATE: 1996 7 15
SOURCE_DEM_DATE: 1998 0 0
AGENCY: WESTERN MAPPING CENTER (WMC)
PRODUCER: WOOLPERT LLP
PRODUCTION_SYSTEM: INTERGRAPH ISPM, ISIR
COMPRESSION: UNDEFINED
STANDARD_VERSION: 1996 12
METADATA_DATE: 2001 9 23
DATA_FILE_SIZE: 40029430
BYTE_COUNT: 5290
