FILENAME: O4810547.NES.1162650.tif
QUADRANGLE_NAME: LONG CREEK EAST
QUADRANT: NE
WEST_LONGITUDE: -105 11 15.00000
EAST_LONGITUDE: -105 7 30.00000
NORTH_LATITUDE: 48 22 30.00000
SOUTH_LATITUDE: 48 18 45.00000
PRODUCTION_DATE: 2001 9 23
RASTER_ORDER: LEFT_RIGHT/TOP_BOTTOM
BAND_ORGANIZATION: SINGLE FILE
BAND_CONTENT: BLACK&WHITE
BAND_CONTENT: UNDEFINED
BAND_CONTENT: UNDEFINED
BITS_PER_PIXEL: 8
SAMPLES_AND_LINES: 5296 7570
HORIZONTAL_DATUM: NAD83
HORIZONTAL_COORDINATE_SYSTEM: UTM
COORDINATE_ZONE: 13
HORIZONTAL_UNITS: meters
HORIZONTAL_RESOLUTION: 1.00000
SECONDARY_HORIZONTAL_DATUM: NAD27
XY_ORIGIN: 485753.00000 5358306.00000
SECONDARY_XY_ORIGIN: 485792.34900 5358084.60800
NATION: US
STATE: MT
NW_QUAD_CORNER_XY: 486115.01000 5357998.26600
NE_QUAD_CORNER_XY: 490743.33900 5357988.83100
SE_QUAD_CORNERY_XY: 490732.01500 5351041.80000
SW_QUAD_CORNER_XY: 486098.02400 5351051.23800
SECONDARY_NW_QUAD_XY: 486114.56900 5357779.31200
SECONDARY_NE_QUAD_XY: 490743.04500 5357769.87700
SECONDARY_SE_QUAD_XY: 490731.72100 5350822.85600
SECONDARY_SW_QUAD_XY: 486097.58400 5350832.29400
RMSE_XY: 5.01000
IMAGE_SOURCE: BLACK AND WHITE FILM
SOURCE_IMAGE_ID: NAPP 9108-146
SOURCE_IMAGE_DATE: 1996 8 8
SOURCE_DEM_DATE: 1998 0 0
AGENCY: WESTERN MAPPING CENTER (WMC)
PRODUCER: WOOLPERT LLP
PRODUCTION_SYSTEM: INTERGRAPH ISPM, ISIR
COMPRESSION: UNDEFINED
STANDARD_VERSION: 1996 12
METADATA_DATE: 2001 9 23
DATA_FILE_SIZE: 40096016
BYTE_COUNT: 5296
