FILENAME: O4810543.SWS.1165681.tif
QUADRANGLE_NAME: TULE VALLEY WEST
QUADRANT: SW
WEST_LONGITUDE: -105 45 0.00000
EAST_LONGITUDE: -105 41 15.00000
NORTH_LATITUDE: 48 18 45.00000
SOUTH_LATITUDE: 48 15 0.00000
PRODUCTION_DATE: 2001 9 15
RASTER_ORDER: LEFT_RIGHT/TOP_BOTTOM
BAND_ORGANIZATION: SINGLE FILE
BAND_CONTENT: BLACK&WHITE
BAND_CONTENT: UNDEFINED
BAND_CONTENT: UNDEFINED
BITS_PER_PIXEL: 8
SAMPLES_AND_LINES: 5355 7604
HORIZONTAL_DATUM: NAD83
HORIZONTAL_COORDINATE_SYSTEM: UTM
COORDINATE_ZONE: 13
HORIZONTAL_UNITS: meters
HORIZONTAL_RESOLUTION: 1.00000
SECONDARY_HORIZONTAL_DATUM: NAD27
XY_ORIGIN: 443977.00000 5351614.00000
SECONDARY_XY_ORIGIN: 444016.77100 5351392.28000
NATION: US
STATE: MT
NW_QUAD_CORNER_XY: 444392.26500 5351306.05100
NE_QUAD_CORNER_XY: 449026.21700 5351262.63700
SE_QUAD_CORNERY_XY: 448963.99400 5344315.73700
SW_QUAD_CORNER_XY: 444324.38600 5344359.16100
SECONDARY_NW_QUAD_XY: 444390.50400 5351087.11500
SECONDARY_NE_QUAD_XY: 449024.60200 5351043.70000
SECONDARY_SE_QUAD_XY: 448962.38000 5344096.81100
SECONDARY_SW_QUAD_XY: 444322.62500 5344140.23600
RMSE_XY: 3.15000
IMAGE_SOURCE: BLACK AND WHITE FILM
SOURCE_IMAGE_ID: NAPP 9105-162
SOURCE_IMAGE_DATE: 1996 8 1
SOURCE_DEM_DATE: 1998 0 0
AGENCY: WESTERN MAPPING CENTER (WMC)
PRODUCER: WOOLPERT LLP
PRODUCTION_SYSTEM: INTERGRAPH ISPM, ISIR
COMPRESSION: UNDEFINED
STANDARD_VERSION: 1996 12
METADATA_DATE: 2001 9 17
DATA_FILE_SIZE: 40724775
BYTE_COUNT: 5355
