FILENAME: O4810542.NWS.1165598.tif
QUADRANGLE_NAME: TODD LAKES SE
QUADRANT: NW
WEST_LONGITUDE: -105 52 30.00000
EAST_LONGITUDE: -105 48 45.00000
NORTH_LATITUDE: 48 22 30.00000
SOUTH_LATITUDE: 48 18 45.00000
PRODUCTION_DATE: 2001 9 15
RASTER_ORDER: LEFT_RIGHT/TOP_BOTTOM
BAND_ORGANIZATION: SINGLE FILE
BAND_CONTENT: BLACK&WHITE
BAND_CONTENT: UNDEFINED
BAND_CONTENT: UNDEFINED
BITS_PER_PIXEL: 8
SAMPLES_AND_LINES: 5360 7612
HORIZONTAL_DATUM: NAD83
HORIZONTAL_COORDINATE_SYSTEM: UTM
COORDINATE_ZONE: 13
HORIZONTAL_UNITS: meters
HORIZONTAL_RESOLUTION: 1.00000
SECONDARY_HORIZONTAL_DATUM: NAD27
XY_ORIGIN: 434777.00000 5358660.00000
SECONDARY_XY_ORIGIN: 434816.80700 5358438.06500
NATION: US
STATE: MT
NW_QUAD_CORNER_XY: 435203.65800 5358351.14400
NE_QUAD_CORNER_XY: 439831.93000 5358300.19200
SE_QUAD_CORNERY_XY: 439758.32100 5351353.24000
SW_QUAD_CORNER_XY: 435124.38600 5351404.20400
SECONDARY_NW_QUAD_XY: 435201.60300 5358132.20100
SECONDARY_NE_QUAD_XY: 439830.02200 5358081.24800
SECONDARY_SE_QUAD_XY: 439756.41300 5351134.30500
SECONDARY_SW_QUAD_XY: 435122.33100 5351185.27200
RMSE_XY: 3.41000
IMAGE_SOURCE: BLACK AND WHITE FILM
SOURCE_IMAGE_ID: NAPP 11001-022
SOURCE_IMAGE_DATE: 1998 7 15
SOURCE_DEM_DATE: 1998 0 0
AGENCY: WESTERN MAPPING CENTER (WMC)
PRODUCER: WOOLPERT LLP
PRODUCTION_SYSTEM: INTERGRAPH ISPM, ISIR
COMPRESSION: UNDEFINED
STANDARD_VERSION: 1996 12
METADATA_DATE: 2001 9 17
DATA_FILE_SIZE: 40805680
BYTE_COUNT: 5360
