FILENAME: O4810539.SWS.1162649.tif
QUADRANGLE_NAME: HAY CREEK NW
QUADRANT: SW
WEST_LONGITUDE: -105 15 0.00000
EAST_LONGITUDE: -105 11 15.00000
NORTH_LATITUDE: 48 26 15.00000
SOUTH_LATITUDE: 48 22 30.00000
PRODUCTION_DATE: 2001 9 23
RASTER_ORDER: LEFT_RIGHT/TOP_BOTTOM
BAND_ORGANIZATION: SINGLE FILE
BAND_CONTENT: BLACK&WHITE
BAND_CONTENT: UNDEFINED
BAND_CONTENT: UNDEFINED
BITS_PER_PIXEL: 8
SAMPLES_AND_LINES: 5297 7574
HORIZONTAL_DATUM: NAD83
HORIZONTAL_COORDINATE_SYSTEM: UTM
COORDINATE_ZONE: 13
HORIZONTAL_UNITS: meters
HORIZONTAL_RESOLUTION: 1.00000
SECONDARY_HORIZONTAL_DATUM: NAD27
XY_ORIGIN: 481141.00000 5365267.00000
SECONDARY_XY_ORIGIN: 481180.36500 5365045.49800
NATION: US
STATE: MT
NW_QUAD_CORNER_XY: 481509.35200 5364958.57600
NE_QUAD_CORNER_XY: 486132.01200 5364945.37100
SE_QUAD_CORNERY_XY: 486115.01000 5357998.26600
SW_QUAD_CORNER_XY: 481486.68200 5358011.47500
SECONDARY_NW_QUAD_XY: 481508.76500 5364739.61300
SECONDARY_NE_QUAD_XY: 486131.57200 5364726.40700
SECONDARY_SE_QUAD_XY: 486114.56900 5357779.31200
SECONDARY_SW_QUAD_XY: 481486.09500 5357792.52100
RMSE_XY: 5.90000
IMAGE_SOURCE: BLACK AND WHITE FILM
SOURCE_IMAGE_ID: NAPP 10725-042
SOURCE_IMAGE_DATE: 1997 9 2
SOURCE_DEM_DATE: 1998 0 0
AGENCY: WESTERN MAPPING CENTER (WMC)
PRODUCER: WOOLPERT LLP
PRODUCTION_SYSTEM: INTERGRAPH ISPM, ISIR
COMPRESSION: UNDEFINED
STANDARD_VERSION: 1996 12
METADATA_DATE: 2001 9 23
DATA_FILE_SIZE: 40124775
BYTE_COUNT: 5297
