FILENAME: O4810534.NWS.1165594.tif
QUADRANGLE_NAME: TODD LAKES NE
QUADRANT: NW
WEST_LONGITUDE: -105 52 30.00000
EAST_LONGITUDE: -105 48 45.00000
NORTH_LATITUDE: 48 30 0.00000
SOUTH_LATITUDE: 48 26 15.00000
PRODUCTION_DATE: 2001 9 15
RASTER_ORDER: LEFT_RIGHT/TOP_BOTTOM
BAND_ORGANIZATION: SINGLE FILE
BAND_CONTENT: BLACK&WHITE
BAND_CONTENT: UNDEFINED
BAND_CONTENT: UNDEFINED
BITS_PER_PIXEL: 8
SAMPLES_AND_LINES: 5349 7612
HORIZONTAL_DATUM: NAD83
HORIZONTAL_COORDINATE_SYSTEM: UTM
COORDINATE_ZONE: 13
HORIZONTAL_UNITS: meters
HORIZONTAL_RESOLUTION: 1.00000
SECONDARY_HORIZONTAL_DATUM: NAD27
XY_ORIGIN: 434936.00000 5372554.00000
SECONDARY_XY_ORIGIN: 434975.68700 5372331.86500
NATION: US
STATE: MT
NW_QUAD_CORNER_XY: 435362.43400 5372245.24500
NE_QUAD_CORNER_XY: 439979.36400 5372194.32000
SE_QUAD_CORNERY_XY: 439905.61100 5365247.21900
SW_QUAD_CORNER_XY: 435283.00700 5365298.15700
SECONDARY_NW_QUAD_XY: 435360.37900 5372026.28400
SECONDARY_NE_QUAD_XY: 439977.45600 5371975.35800
SECONDARY_SE_QUAD_XY: 439903.70300 5365028.26500
SECONDARY_SW_QUAD_XY: 435280.95200 5365079.20500
RMSE_XY: 3.92000
IMAGE_SOURCE: BLACK AND WHITE FILM
SOURCE_IMAGE_ID: NAPP 11001-026
SOURCE_IMAGE_DATE: 1998 7 15
SOURCE_DEM_DATE: 1998 0 0
AGENCY: WESTERN MAPPING CENTER (WMC)
PRODUCER: WOOLPERT LLP
PRODUCTION_SYSTEM: INTERGRAPH ISPM, ISIR
COMPRESSION: UNDEFINED
STANDARD_VERSION: 1996 12
METADATA_DATE: 2001 9 17
DATA_FILE_SIZE: 40721937
BYTE_COUNT: 5349
