FILENAME: O4810534.SWS.1165596.tif
QUADRANGLE_NAME: TODD LAKES NE
QUADRANT: SW
WEST_LONGITUDE: -105 52 30.00000
EAST_LONGITUDE: -105 48 45.00000
NORTH_LATITUDE: 48 26 15.00000
SOUTH_LATITUDE: 48 22 30.00000
PRODUCTION_DATE: 2001 9 15
RASTER_ORDER: LEFT_RIGHT/TOP_BOTTOM
BAND_ORGANIZATION: SINGLE FILE
BAND_CONTENT: BLACK&WHITE
BAND_CONTENT: UNDEFINED
BAND_CONTENT: UNDEFINED
BITS_PER_PIXEL: 8
SAMPLES_AND_LINES: 5355 7612
HORIZONTAL_DATUM: NAD83
HORIZONTAL_COORDINATE_SYSTEM: UTM
COORDINATE_ZONE: 13
HORIZONTAL_UNITS: meters
HORIZONTAL_RESOLUTION: 1.00000
SECONDARY_HORIZONTAL_DATUM: NAD27
XY_ORIGIN: 434856.00000 5365607.00000
SECONDARY_XY_ORIGIN: 434895.74700 5365384.96400
NATION: US
STATE: MT
NW_QUAD_CORNER_XY: 435283.00700 5365298.15700
NE_QUAD_CORNER_XY: 439905.61100 5365247.21900
SE_QUAD_CORNERY_XY: 439831.93000 5358300.19200
SW_QUAD_CORNER_XY: 435203.65800 5358351.14400
SECONDARY_NW_QUAD_XY: 435280.95200 5365079.20500
SECONDARY_NE_QUAD_XY: 439903.70300 5365028.26500
SECONDARY_SE_QUAD_XY: 439830.02200 5358081.24800
SECONDARY_SW_QUAD_XY: 435201.60300 5358132.20100
RMSE_XY: 3.58000
IMAGE_SOURCE: BLACK AND WHITE FILM
SOURCE_IMAGE_ID: NAPP 11001-024
SOURCE_IMAGE_DATE: 1998 7 15
SOURCE_DEM_DATE: 1998 0 0
AGENCY: WESTERN MAPPING CENTER (WMC)
PRODUCER: WOOLPERT LLP
PRODUCTION_SYSTEM: INTERGRAPH ISPM, ISIR
COMPRESSION: UNDEFINED
STANDARD_VERSION: 1996 12
METADATA_DATE: 2001 9 17
DATA_FILE_SIZE: 40767615
BYTE_COUNT: 5355
